{"text_format":"1","workbook":"xlsx","n_sheets":22,"sheets":["00.Orçamento Resumo","Total Itens","01. DESFILE","02. PÓDIO","03. PASSEIO FEMININO","04. PASSEIO MASCULINO","05. ATLETISMO","06. BASQUETE E RUGBY EM CR","07. PARABADMINTON","08. BOCHA","09. FUTEBOL DE CEGOS E PC","10. GOALBALL","11. HALTEROFILISMO","12. TÊNIS DE MESA","13. TÊNIS EM CR","14. TIRO COM ARCO","15. TIRO ESPORTIVO","16. VÔLEI SENTADO","17. LOTERIAS CAIXA","18. LOT. CAIXA E BRASKEM","19. TIME SÃO PAULO","20. ENDOMARKETING"],"not_rendered":{"charts":0,"images":115,"macros":0,"external_links":0,"defined_names":24,"comments":0,"pivot_tables":0},"unopened":[],"bounds":{"document_bytes":16777216,"sheet_cells":100000,"rows_first":2000,"rows_last":500,"rows_between":2000,"halvings":0,"cell_chars":16384,"cell_head_chars":4096},"cells_cut":0,"cells_raw":0,"read":"whole","date_system":"1900"}

{"sheet":"00.Orçamento Resumo","index":0,"n_rows":82,"n_cols":3,"rows_kept":82,"cut":false,"hidden":false,"merged":[[55,1,55,2],[31,0,31,1],[0,0,0,2],[2,0,2,2],[3,0,3,2],[4,1,4,2],[6,1,6,2],[7,1,7,2],[8,1,8,2],[9,1,9,2],[10,1,10,2],[11,1,11,2],[13,0,13,2],[46,0,46,1],[53,0,53,1],[33,0,33,2],[71,0,72,2],[56,1,56,2],[58,0,58,2],[59,0,60,2],[61,0,61,2],[62,0,63,2],[64,0,64,2],[65,0,66,2],[67,0,67,2],[68,0,69,2],[70,0,70,2],[81,0,81,2],[73,0,73,2],[75,1,75,2],[77,0,77,2],[78,0,78,2],[79,0,79,2],[80,0,80,2],[51,0,51,1],[36,0,36,1],[38,0,38,2],[41,0,41,1],[43,0,43,2],[48,0,48,2]]}
["INSERIR NO PAPEL TIMBRADO"]
["AO"]
["COMITÊ PARALÍMPICO BRASILEIRO"]
["ORÇAMENTO"]
["OBJETO:","PRESTAÇÃO DE SERVIÇOS DE CONFECÇAO DE UNIFORMES ESPORTIVOS ALTO PADRÃO, CONFORME ESPECIFICAÇÕES CONSTANTES NO TERMO DE REFERÊNCIA."]
[]
["EMPRESA:"]
["CNPJ:"]
["RESPONSÁVEL:"]
["TELEFONE:"]
["ENDEREÇO:"]
["E-MAIL:"]
[]
["MISSÕES"]
["ITEM","DESCRIÇÃO","VALOR TOTAL"]
[1,{"$f":"'01. DESFILE'!B1","v":"01. DESFILE"},{"$f":"'01. DESFILE'!G26","v":""}]
[2,{"$f":"'02. PÓDIO'!B1","v":"02. PÓDIO"},{"$f":"'02. PÓDIO'!G26","v":""}]
[3,{"$f":"'03. PASSEIO FEMININO'!B1","v":"03. PASSEIO FEMININO"},{"$f":"'03. PASSEIO FEMININO'!G116","v":""}]
[4,{"$f":"'04. PASSEIO MASCULINO'!B1","v":"04. PASSEIO MASCULINO"},{"$f":"'04. PASSEIO MASCULINO'!G98","v":""}]
[5,{"$f":"'05. ATLETISMO'!B1","v":"05. ATLETISMO"},{"$f":"'05. ATLETISMO'!G140","v":""}]
[6,{"$f":"'06. BASQUETE E RUGBY EM CR'!B1","v":"06. BASQUETE E RUGBY EM CR"},{"$f":"'06. BASQUETE E RUGBY EM CR'!G80","v":""}]
[7,{"$f":"'07. PARABADMINTON'!B1","v":"07. PARABADMINTON"},{"$f":"'07. PARABADMINTON'!G50","v":""}]
[8,{"$f":"'08. BOCHA'!B1","v":"08. BOCHA"},{"$f":"'08. BOCHA'!G38","v":""}]
[9,{"$f":"'09. FUTEBOL DE CEGOS E PC'!B1","v":"09. FUTEBOL DE CEGOS E PC"},{"$f":"'09. FUTEBOL DE CEGOS E PC'!G50","v":""}]
[10,{"$f":"'10. GOALBALL'!B1","v":"10. GOALBALL"},{"$f":"'10. GOALBALL'!G50","v":""}]
[11,{"$f":"'11. HALTEROFILISMO'!B1","v":"11. HALTEROFILISMO"},{"$f":"'11. HALTEROFILISMO'!G14","v":""}]
[12,{"$f":"'12. TÊNIS DE MESA'!B1","v":"12. TÊNIS DE MESA"},{"$f":"'12. TÊNIS DE MESA'!G56","v":""}]
[13,{"$f":"'13. TÊNIS EM CR'!B1","v":"13. TÊNIS EM CR"},{"$f":"'13. TÊNIS EM CR'!G56","v":""}]
[14,{"$f":"'14. TIRO COM ARCO'!B1","v":"14. TIRO COM ARCO"},{"$f":"'14. TIRO COM ARCO'!G44","v":""}]
[15,{"$f":"'15. TIRO ESPORTIVO'!B1","v":"15. TIRO ESPORTIVO"},{"$f":"'15. TIRO ESPORTIVO'!G38","v":""}]
[16,{"$f":"'16. VÔLEI SENTADO'!B1","v":"16. VÔLEI SENTADO"},{"$f":"'16. VÔLEI SENTADO'!G104","v":""}]
["TOTAL",null,{"$f":"IF(SUM(C16:C31)=0,\"\",(SUM(C16:C31)))","v":""}]
[]
["LOTERIAS CAIXA"]
["ITEM","DESCRIÇÃO","VALOR TOTAL"]
[17,{"$f":"'17. LOTERIAS CAIXA'!B1","v":"LOTERIAS CAIXAS"},{"$f":"'17. LOTERIAS CAIXA'!G105","v":""}]
["TOTAL",null,{"$f":"IF(SUM(C36:C36)=0,\"\",(SUM(C36:C36)))","v":""}]
[]
["LOTERIAS CAIXA E BRASKEM"]
["ITEM","DESCRIÇÃO","VALOR TOTAL"]
[18,{"$f":"'18. LOT. CAIXA E BRASKEM'!B1","v":"LOTERIAS CAIXAS E BRASKEM"},{"$f":"'18. LOT. CAIXA E BRASKEM'!G105","v":""}]
["TOTAL",null,{"$f":"IF(SUM(C41:C41)=0,\"\",(SUM(C41:C41)))","v":""}]
[]
["TIME SÃO PAULO"]
["ITEM","DESCRIÇÃO","VALOR TOTAL"]
[19,{"$f":"'19. TIME SÃO PAULO'!B1","v":"TIME SÃO PAULO"},{"$f":"'19. TIME SÃO PAULO'!G39","v":""}]
["TOTAL",null,{"$f":"IF(SUM(C46:C46)=0,\"\",(SUM(C46:C46)))","v":""}]
[]
["ENDOMARKETING"]
["ITEM","DESCRIÇÃO","VALOR TOTAL"]
[20,{"$f":"'20. ENDOMARKETING'!B1","v":"ENDOMARKETING"},{"$f":"'20. ENDOMARKETING'!G39","v":""}]
["TOTAL",null,{"$f":"IF(SUM(C51:C51)=0,\"\",(SUM(C51:C51)))","v":""}]
[]
["TOTAL DO ORÇAMENTO",null,{"$f":"IF(SUM(C32,C37,C42,C47,C52)=0,\"\",(SUM(C32,C37,C42,C47,C52)))","v":""}]
[]
["Valor da Proposta:",{"$f":"C54","v":""}]
["Valor p/ Extenso:"]
[]
["Condições de Pagamento:"]
["Em até 30 dias após o recebimento da Nota Fiscal e prestação dos serviços ou recebimento dos materiais junto ao responsável pela compra, mediante depósito bancário."]
[]
["Condições de Entrega:"]
[]
[]
["Garantia Produto/Serviço:"]
[]
[]
["Validade da Proposta"]
["60 (sessenta) dias."]
[]
["Observaçãoes Gerais"]
[]
[]
[]
[]
["Data:","xx/xx/xxxx"]
[]
["_______________________________________________"]
[{"$f":"IF($B$7=\"\",\"\",$B$7)","v":""}]
[{"$f":"IF($B$8=\"\",\"\",$B$8)","v":""}]
[{"$f":"IF($B$9=\"\",\"\",$B$9)","v":""}]
[{"$f":"IF($B$10=\"\",\"\",$B$10)","v":""}]

{"sheet":"Total Itens","index":1,"n_rows":43,"n_cols":3,"rows_kept":43,"cut":false,"hidden":false,"merged":[[42,0,42,1],[22,0,22,2],[25,0,25,1],[27,0,27,2],[30,0,30,1],[32,0,32,2],[35,0,35,1],[2,0,2,2],[20,0,20,1],[0,1,0,2],[37,0,37,2],[40,0,40,1]]}
["OBJETO:","PRESTAÇÃO DE SERVIÇOS DE CONFECÇAO DE UNIFORMES ESPORTIVOS ALTO PADRÃO, CONFORME ESPECIFICAÇÕES CONSTANTES NO TERMO DE REFERÊNCIA."]
[]
["MISSÕES"]
["ITEM","DESCRIÇÃO","TOTAL ITENS"]
[1,{"$f":"'01. DESFILE'!B1","v":"01. DESFILE"},{"$f":"SUM('01. DESFILE'!E3:E24)","v":3948}]
[2,{"$f":"'02. PÓDIO'!B1","v":"02. PÓDIO"},{"$f":"SUM('02. PÓDIO'!E3:E24)","v":3948}]
[3,{"$f":"'03. PASSEIO FEMININO'!B1","v":"03. PASSEIO FEMININO"},{"$f":"SUM('03. PASSEIO FEMININO'!E3:E114)","v":11474}]
[4,{"$f":"'04. PASSEIO MASCULINO'!B1","v":"04. PASSEIO MASCULINO"},{"$f":"SUM('04. PASSEIO MASCULINO'!E3:E96)","v":20496}]
[5,{"$f":"'05. ATLETISMO'!B1","v":"05. ATLETISMO"},{"$f":"SUM('05. ATLETISMO'!E3:E138)","v":10006}]
[6,{"$f":"'06. BASQUETE E RUGBY EM CR'!B1","v":"06. BASQUETE E RUGBY EM CR"},{"$f":"SUM('06. BASQUETE E RUGBY EM CR'!E3:E78)","v":2608}]
[7,{"$f":"'07. PARABADMINTON'!B1","v":"07. PARABADMINTON"},{"$f":"SUM('07. PARABADMINTON'!E3:E48)","v":360}]
[8,{"$f":"'08. BOCHA'!B1","v":"08. BOCHA"},{"$f":"SUM('08. BOCHA'!E3:E36)","v":360}]
[9,{"$f":"'09. FUTEBOL DE CEGOS E PC'!B1","v":"09. FUTEBOL DE CEGOS E PC"},{"$f":"SUM('09. FUTEBOL DE CEGOS E PC'!E3:E48)","v":480}]
[10,{"$f":"'10. GOALBALL'!B1","v":"10. GOALBALL"},{"$f":"SUM('10. GOALBALL'!E3:E48)","v":320}]
[11,{"$f":"'11. HALTEROFILISMO'!B1","v":"11. HALTEROFILISMO"},{"$f":"SUM('11. HALTEROFILISMO'!E3:E12)","v":340}]
[12,{"$f":"'12. TÊNIS DE MESA'!B1","v":"12. TÊNIS DE MESA"},{"$f":"SUM('12. TÊNIS DE MESA'!E3:E54)","v":840}]
[13,{"$f":"'13. TÊNIS EM CR'!B1","v":"13. TÊNIS EM CR"},{"$f":"SUM('13. TÊNIS EM CR'!E3:E54)","v":112}]
[14,{"$f":"'14. TIRO COM ARCO'!B1","v":"14. TIRO COM ARCO"},{"$f":"SUM('14. TIRO COM ARCO'!E3:E42)","v":160}]
[15,{"$f":"'15. TIRO ESPORTIVO'!B1","v":"15. TIRO ESPORTIVO"},{"$f":"SUM('15. TIRO ESPORTIVO'!E3:E36)","v":180}]
[16,{"$f":"'16. VÔLEI SENTADO'!B1","v":"16. VÔLEI SENTADO"},{"$f":"SUM('16. VÔLEI SENTADO'!E3:E102)","v":1896}]
["TOTAL GERAL DE ITENS",null,{"$f":"IF(SUM(C5:C20)=0,\"\",(SUM(C5:C20)))","v":57528}]
[]
["LOTERIAS CAIXA"]
["ITEM","DESCRIÇÃO","TOTAL ITENS"]
[17,{"$f":"'17. LOTERIAS CAIXA'!B1","v":"LOTERIAS CAIXAS"},{"$f":"SUM('17. LOTERIAS CAIXA'!E3:E103)","v":4700}]
["TOTAL GERAL DE ITENS",null,{"$f":"IF(SUM(C25:C25)=0,\"\",(SUM(C25:C25)))","v":4700}]
[]
["LOTERIAS CAIXA E BRASKEM"]
["ITEM","DESCRIÇÃO","TOTAL ITENS"]
[18,{"$f":"'18. LOT. CAIXA E BRASKEM'!B1","v":"LOTERIAS CAIXAS E BRASKEM"},{"$f":"SUM('18. LOT. CAIXA E BRASKEM'!E3:E103)","v":2900}]
["TOTAL GERAL DE ITENS",null,{"$f":"IF(SUM(C30:C30)=0,\"\",(SUM(C30:C30)))","v":2900}]
[]
["TIME SÃO PAULO"]
["ITEM","DESCRIÇÃO","TOTAL ITENS"]
[19,{"$f":"'19. TIME SÃO PAULO'!B1","v":"TIME SÃO PAULO"},{"$f":"SUM('19. TIME SÃO PAULO'!E3:E37)","v":1200}]
["TOTAL GERAL DE ITENS",null,{"$f":"IF(SUM(C35:C35)=0,\"\",(SUM(C35:C35)))","v":1200}]
[]
["ENDOMARKETING"]
["ITEM","DESCRIÇÃO","TOTAL ITENS"]
[20,{"$f":"'20. ENDOMARKETING'!B1","v":"ENDOMARKETING"},{"$f":"SUM('20. ENDOMARKETING'!E3:E37)","v":1020}]
["TOTAL GERAL DE ITENS",null,{"$f":"IF(SUM(C40:C40)=0,\"\",(SUM(C40:C40)))","v":1020}]
[]
["TOTAL GERAL DE ITENS",null,{"$f":"IF(SUM(C21,C26,C31,C36,C41)=0,\"\",(SUM(C21,C26,C31,C36,C41)))","v":67348}]

{"sheet":"01. DESFILE","index":2,"n_rows":31,"n_cols":7,"rows_kept":31,"cut":false,"hidden":false,"merged":[[8,6,11,6],[2,1,5,1],[2,2,5,2],[2,3,5,3],[2,4,5,4],[2,5,5,5],[2,6,5,6],[8,1,11,1],[8,2,11,2],[8,3,11,3],[8,4,11,4],[8,5,11,5],[14,6,17,6],[20,1,23,1],[20,2,23,2],[20,3,23,3],[20,4,23,4],[20,5,23,5],[14,1,17,1],[14,2,17,2],[14,3,17,3],[14,4,17,4],[14,5,17,5],[25,1,25,5],[27,2,27,6],[29,2,29,6],[30,2,30,6],[20,6,23,6]]}
[null,"01. DESFILE"]
[null,"ITEM","IMAGEM ILUSTRATIUVA","MODELO","QTD","VALOR\nUNITÁRIO","VALOR\nTOTAL"]
[null,1,null,"QUEBRA VENTO MASCULINO / \nPA.015.20",1364,null,{"$f":"IF(E3=\"\",\"\",IF(F3=\"\",\"\",(E3*F3)))","v":""}]
[]
[]
[]
[]
[null,"ITEM","IMAGEM ILUSTRATIUVA","MODELO","QTD","VALOR\nUNITÁRIO","VALOR\nTOTAL"]
[null,2,null,"CALÇA MASCULINA /\nPA.012.20",1364,null,{"$f":"IF(E9=\"\",\"\",IF(F9=\"\",\"\",(E9*F9)))","v":""}]
[]
[]
[]
[]
[null,"ITEM","IMAGEM ILUSTRATIUVA","MODELO","QTD","VALOR\nUNITÁRIO","VALOR\nTOTAL"]
[null,3,null,"QUEBRA VENTO FEMININO /\nPA.030.20",610,null,{"$f":"IF(E15=\"\",\"\",IF(F15=\"\",\"\",(E15*F15)))","v":""}]
[]
[]
[]
[]
[null,"ITEM","IMAGEM ILUSTRATIUVA","MODELO","QTD","VALOR\nUNITÁRIO","VALOR\nTOTAL"]
[null,4,null,"CALÇA FEMININA /\nPA.027.20",610,null,{"$f":"IF(E21=\"\",\"\",IF(F21=\"\",\"\",(E21*F21)))","v":""}]
[]
[]
[]
[]
[null,"TOTAL",null,null,null,null,{"$f":"IF(SUM(G3,G9,G15,G21)=0,\"\",SUM(G3,G9,G15,G21))","v":""}]
[]
[null,"Valor da Proposta:",{"$f":"G26","v":""}]
[]
[null,{"$f":"'00.Orçamento Resumo'!A7","v":"EMPRESA:"},{"$f":"IF('00.Orçamento Resumo'!$B$7=\"\",\"\",'00.Orçamento Resumo'!$B$7)","v":""}]
[null,{"$f":"'00.Orçamento Resumo'!A8","v":"CNPJ:"},{"$f":"IF('00.Orçamento Resumo'!$B$8=\"\",\"\",'00.Orçamento Resumo'!$B$8)","v":""}]

{"sheet":"02. PÓDIO","index":3,"n_rows":31,"n_cols":7,"rows_kept":31,"cut":false,"hidden":false,"merged":[[8,6,11,6],[2,1,5,1],[2,2,5,2],[2,3,5,3],[2,4,5,4],[2,5,5,5],[2,6,5,6],[8,1,11,1],[8,2,11,2],[8,3,11,3],[8,4,11,4],[8,5,11,5],[14,6,17,6],[20,1,23,1],[20,2,23,2],[20,3,23,3],[20,4,23,4],[20,5,23,5],[14,1,17,1],[14,2,17,2],[14,3,17,3],[14,4,17,4],[14,5,17,5],[25,1,25,5],[27,2,27,6],[29,2,29,6],[30,2,30,6],[20,6,23,6]]}
[null,"02. PÓDIO"]
[null,"ITEM","IMAGEM ILUSTRATIUVA","MODELO","QTD","VALOR\nUNITÁRIO","VALOR\nTOTAL"]
[null,1,null,"BLUSÃO MASCULINO /\nPO.007.20",1364,null,{"$f":"IF(E3=\"\",\"\",IF(F3=\"\",\"\",(E3*F3)))","v":""}]
[]
[]
[]
[]
[null,"ITEM","IMAGEM ILUSTRATIUVA","MODELO","QTD","VALOR\nUNITÁRIO","VALOR\nTOTAL"]
[null,2,null,"CALÇA MASCULINA / \nPO.008.20",1364,null,{"$f":"IF(E9=\"\",\"\",IF(F9=\"\",\"\",(E9*F9)))","v":""}]
[]
[]
[]
[]
[null,"ITEM","IMAGEM ILUSTRATIUVA","MODELO","QTD","VALOR\nUNITÁRIO","VALOR\nTOTAL"]
[null,3,null,"BLUSÃO FEMININO / \nPO.009.20",610,null,{"$f":"IF(E15=\"\",\"\",IF(F15=\"\",\"\",(E15*F15)))","v":""}]
[]
[]
[]
[]
[null,"ITEM","IMAGEM ILUSTRATIUVA","MODELO","QTD","VALOR\nUNITÁRIO","VALOR\nTOTAL"]
[null,4,null,"CALÇA FEMININA / \nPO.0010.20",610,null,{"$f":"IF(E21=\"\",\"\",IF(F21=\"\",\"\",(E21*F21)))","v":""}]
[]
[]
[]
[]
[null,"TOTAL",null,null,null,null,{"$f":"IF(SUM(G3,G9,G15,G21)=0,\"\",SUM(G3,G9,G15,G21))","v":""}]
[]
[null,"Valor da Proposta:",{"$f":"G26","v":""}]
[]
[null,{"$f":"'00.Orçamento Resumo'!A7","v":"EMPRESA:"},{"$f":"IF('00.Orçamento Resumo'!$B$7=\"\",\"\",'00.Orçamento Resumo'!$B$7)","v":""}]
[null,{"$f":"'00.Orçamento Resumo'!A8","v":"CNPJ:"},{"$f":"IF('00.Orçamento Resumo'!$B$8=\"\",\"\",'00.Orçamento Resumo'!$B$8)","v":""}]

{"sheet":"03. PASSEIO FEMININO","index":4,"n_rows":121,"n_cols":11,"rows_kept":121,"cut":false,"hidden":false,"merged":[[8,1,11,1],[8,2,11,2],[8,3,11,3],[8,4,11,4],[8,5,11,5],[8,6,11,6],[2,1,5,1],[2,2,5,2],[2,3,5,3],[2,4,5,4],[2,5,5,5],[2,6,5,6],[20,1,23,1],[20,2,23,2],[20,3,23,3],[20,4,23,4],[20,5,23,5],[20,6,23,6],[14,1,17,1],[14,2,17,2],[14,3,17,3],[14,4,17,4],[14,5,17,5],[14,6,17,6],[32,1,35,1],[32,2,35,2],[32,3,35,3],[32,4,35,4],[32,5,35,5],[32,6,35,6],[26,1,29,1],[26,2,29,2],[26,3,29,3],[26,4,29,4],[26,5,29,5],[26,6,29,6],[44,1,47,1],[44,2,47,2],[44,3,47,3],[44,4,47,4],[44,5,47,5],[44,6,47,6],[38,1,41,1],[38,2,41,2],[38,3,41,3],[38,4,41,4],[38,5,41,5],[38,6,41,6],[56,1,59,1],[56,2,59,2],[56,3,59,3],[56,4,59,4],[56,5,59,5],[56,6,59,6],[50,1,53,1],[50,2,53,2],[50,3,53,3],[50,4,53,4],[50,5,53,5],[50,6,53,6],[68,1,71,1],[68,2,71,2],[68,3,71,3],[68,4,71,4],[68,5,71,5],[68,6,71,6],[62,1,65,1],[62,2,65,2],[62,3,65,3],[62,4,65,4],[62,5,65,5],[62,6,65,6],[80,1,83,1],[80,2,83,2],[80,3,83,3],[80,4,83,4],[80,5,83,5],[80,6,83,6],[74,1,77,1],[74,2,77,2],[74,3,77,3],[74,4,77,4],[74,5,77,5],[74,6,77,6],[92,1,95,1],[92,2,95,2],[92,3,95,3],[92,4,95,4],[92,5,95,5],[92,6,95,6],[86,1,89,1],[86,2,89,2],[86,3,89,3],[86,4,89,4],[86,5,89,5],[86,6,89,6],[104,1,107,1],[104,2,107,2],[104,3,107,3],[104,4,107,4],[104,5,107,5],[104,6,107,6],[98,1,101,1],[98,2,101,2],[98,3,101,3],[98,4,101,4],[98,5,101,5],[98,6,101,6],[115,1,115,5],[117,2,117,6],[119,2,119,6],[120,2,120,6],[110,1,113,1],[110,2,113,2],[110,3,113,3],[110,4,113,4],[110,5,113,5],[110,6,113,6]]}
[null,"03. PASSEIO FEMININO"]
[null,"ITEM","IMAGEM ILUSTRATIUVA","MODELO","QTD","VALOR\nUNITÁRIO","VALOR\nTOTAL"]
[null,1,null,"BLUSÃO FLEECE FEMININO /\n",610,null,{"$f":"IF(E3=\"\",\"\",IF(F3=\"\",\"\",(E3*F3)))","v":""}]
[]
[]
[]
[]
[null,"ITEM","IMAGEM ILUSTRATIUVA","MODELO","QTD","VALOR\nUNITÁRIO","VALOR\nTOTAL"]
[null,2,null,"CALÇA FLEECE FEMININA / \n",610,null,{"$f":"IF(E9=\"\",\"\",IF(F9=\"\",\"\",(E9*F9)))","v":""}]
[]
[]
[]
[]
[null,"ITEM","IMAGEM ILUSTRATIUVA","MODELO","QTD","VALOR\nUNITÁRIO","VALOR\nTOTAL"]
[null,3,null,"BLUSÃO FEMININO / \nPA.028.20",null,null,{"$f":"IF(E15=\"\",\"\",IF(F15=\"\",\"\",(E15*F15)))","v":""}]
[]
[]
[]
[]
[null,"ITEM","IMAGEM ILUSTRATIUVA","MODELO","QTD","VALOR\nUNITÁRIO","VALOR\nTOTAL"]
[null,4,null,"CALÇA FEMININA / \nPA.029.20",null,null,{"$f":"IF(E21=\"\",\"\",IF(F21=\"\",\"\",(E21*F21)))","v":""}]
[]
[]
[]
[]
[null,"ITEM","IMAGEM ILUSTRATIUVA","MODELO","QTD","VALOR\nUNITÁRIO","VALOR\nTOTAL"]
[null,5,null,"LEGGING FEMININA / \nPA.031.20 (AZUL)",610,null,{"$f":"IF(E27=\"\",\"\",IF(F27=\"\",\"\",(E27*F27)))","v":""}]
[]
[]
[]
[]
[null,"ITEM","IMAGEM ILUSTRATIUVA","MODELO","QTD","VALOR\nUNITÁRIO","VALOR\nTOTAL"]
[null,6,null,"LEGGING FEMININA / \nPA.031.20 (VERDE)",610,null,{"$f":"IF(E33=\"\",\"\",IF(F33=\"\",\"\",(E33*F33)))","v":""}]
[]
[]
[]
[]
[null,"ITEM","IMAGEM ILUSTRATIUVA","MODELO","QTD","VALOR\nUNITÁRIO","VALOR\nTOTAL"]
[null,7,null,"BERMUDA FEMININA / \nPA.033.20",610,null,{"$f":"IF(E39=\"\",\"\",IF(F39=\"\",\"\",(E39*F39)))","v":""}]
[]
[]
[]
[]
[null,"ITEM","IMAGEM ILUSTRATIUVA","MODELO","QTD","VALOR\nUNITÁRIO","VALOR\nTOTAL"]
[null,8,null,"REGATA FEMININA / \nPA.034.20 (AMARELA)",610,null,{"$f":"IF(E45=\"\",\"\",IF(F45=\"\",\"\",(E45*F45)))","v":""}]
[]
[]
[]
[]
[null,"ITEM","IMAGEM ILUSTRATIUVA","MODELO","QTD","VALOR\nUNITÁRIO","VALOR\nTOTAL"]
[null,9,null,"REGATA FEMININA / \nPA.034.20 (VERDE)",610,null,{"$f":"IF(E51=\"\",\"\",IF(F51=\"\",\"\",(E51*F51)))","v":""}]
[]
[]
[]
[]
[null,"ITEM","IMAGEM ILUSTRATIUVA","MODELO","QTD","VALOR\nUNITÁRIO","VALOR\nTOTAL"]
[null,10,null,"SHORT FEMININO / \nPA.035.20",1162,null,{"$f":"IF(E57=\"\",\"\",IF(F57=\"\",\"\",(E57*F57)))","v":""}]
[]
[]
[]
[]
[null,"ITEM","IMAGEM ILUSTRATIUVA","MODELO","QTD","VALOR\nUNITÁRIO","VALOR\nTOTAL"]
[null,11,null,"CAMISA POLO FEMININA POLIESTER / \nPA.038.20 (VERDE)",610,null,{"$f":"IF(E63=\"\",\"\",IF(F63=\"\",\"\",(E63*F63)))","v":""}]
[]
[]
[]
[]
[null,"ITEM","IMAGEM ILUSTRATIUVA","MODELO","QTD","VALOR\nUNITÁRIO","VALOR\nTOTAL"]
[null,12,null,"CAMISA POLO FEMININA POLIESTER / \nPA.060.20 (AZUL)",610,null,{"$f":"IF(E69=\"\",\"\",IF(F69=\"\",\"\",(E69*F69)))","v":""}]
[]
[null,null,null,null,null,null,null,null,null,null,610]
[]
[]
[null,"ITEM","IMAGEM ILUSTRATIUVA","MODELO","QTD","VALOR\nUNITÁRIO","VALOR\nTOTAL"]
[null,13,null,"CAMISA POLO FEMININA\nPIQUET /\nPA.039.20 (BRANCA)",610,null,{"$f":"IF(E75=\"\",\"\",IF(F75=\"\",\"\",(E75*F75)))","v":""}]
[]
[]
[]
[]
[null,"ITEM","IMAGEM ILUSTRATIUVA","MODELO","QTD","VALOR\nUNITÁRIO","VALOR\nTOTAL"]
[null,14,null,"CAMISA POLO FEMININA\nPIQUET /\nPA.036.20 (VERDE)",610,null,{"$f":"IF(E81=\"\",\"\",IF(F81=\"\",\"\",(E81*F81)))","v":""}]
[]
[]
[]
[]
[null,"ITEM","IMAGEM ILUSTRATIUVA","MODELO","QTD","VALOR\nUNITÁRIO","VALOR\nTOTAL"]
[null,15,null,"CAMISETA FEMININA / \n(BRANCA)",1162,null,{"$f":"IF(E87=\"\",\"\",IF(F87=\"\",\"\",(E87*F87)))","v":""}]
[]
[]
[]
[]
[null,"ITEM","IMAGEM ILUSTRATIUVA","MODELO","QTD","VALOR\nUNITÁRIO","VALOR\nTOTAL"]
[null,16,null,"CAMISETA FEMININA / \nPA.104.20 (AMARELA)",610,null,{"$f":"IF(E93=\"\",\"\",IF(F93=\"\",\"\",(E93*F93)))","v":""}]
[]
[]
[]
[]
[null,"ITEM","IMAGEM ILUSTRATIUVA","MODELO","QTD","VALOR\nUNITÁRIO","VALOR\nTOTAL"]
[null,17,null,"TOP FEMININO / \nPA.042.20 (AZUL)",610,null,{"$f":"IF(E99=\"\",\"\",IF(F99=\"\",\"\",(E99*F99)))","v":""}]
[]
[]
[]
[]
[null,"ITEM","IMAGEM ILUSTRATIUVA","MODELO","QTD","VALOR\nUNITÁRIO","VALOR\nTOTAL"]
[null,18,null,"TOP FEMININO / \nPA.042.20 (BRANCO)",610,null,{"$f":"IF(E105=\"\",\"\",IF(F105=\"\",\"\",(E105*F105)))","v":""}]
[]
[]
[]
[]
[null,"ITEM","IMAGEM ILUSTRATIUVA","MODELO","QTD","VALOR\nUNITÁRIO","VALOR\nTOTAL"]
[null,19,null,"CAMISETA SEGUNDA PELE FEMININA / CO.144.20",610,null,{"$f":"IF(E111=\"\",\"\",IF(F111=\"\",\"\",(E111*F111)))","v":""}]
[]
[]
[]
[]
[null,"TOTAL",null,null,null,null,{"$f":"IF(SUM(G3,G9,G15,G21,G27,G33,G39,G45,G51,G57,G63,G69,G75,G81,G87,G93,G99,G105,G111)=0,\"\",SUM(G3,G9,G15,G21,G27,G33,G39,G45,G51,G57,G63,G69,G75,G81,G87,G93,G99,G105,G111))","v":""}]
[]
[null,"Valor da Proposta:",{"$f":"G116","v":""}]
[]
[null,{"$f":"'00.Orçamento Resumo'!A7","v":"EMPRESA:"},{"$f":"IF('00.Orçamento Resumo'!$B$7=\"\",\"\",'00.Orçamento Resumo'!$B$7)","v":""}]
[null,{"$f":"'00.Orçamento Resumo'!A8","v":"CNPJ:"},{"$f":"IF('00.Orçamento Resumo'!$B$8=\"\",\"\",'00.Orçamento Resumo'!$B$8)","v":""}]

{"sheet":"04. PASSEIO MASCULINO","index":5,"n_rows":103,"n_cols":7,"rows_kept":103,"cut":false,"hidden":false,"merged":[[2,6,5,6],[14,1,17,1],[14,2,17,2],[14,3,17,3],[14,4,17,4],[14,5,17,5],[14,6,17,6],[8,1,11,1],[8,2,11,2],[8,3,11,3],[8,4,11,4],[8,5,11,5],[8,6,11,6],[2,1,5,1],[2,2,5,2],[2,3,5,3],[26,6,29,6],[20,1,23,1],[20,2,23,2],[20,3,23,3],[20,4,23,4],[20,5,23,5],[20,6,23,6],[26,1,29,1],[26,2,29,2],[26,3,29,3],[26,4,29,4],[26,5,29,5],[2,4,5,4],[2,5,5,5],[38,6,41,6],[32,1,35,1],[32,2,35,2],[32,3,35,3],[32,4,35,4],[32,5,35,5],[32,6,35,6],[38,1,41,1],[38,2,41,2],[38,3,41,3],[38,4,41,4],[38,5,41,5],[50,6,53,6],[44,1,47,1],[44,2,47,2],[44,3,47,3],[44,4,47,4],[44,5,47,5],[44,6,47,6],[50,1,53,1],[50,2,53,2],[50,3,53,3],[50,4,53,4],[50,5,53,5],[62,6,65,6],[56,1,59,1],[56,2,59,2],[56,3,59,3],[56,4,59,4],[56,5,59,5],[56,6,59,6],[62,1,65,1],[62,2,65,2],[62,3,65,3],[62,4,65,4],[62,5,65,5],[74,6,77,6],[68,1,71,1],[68,2,71,2],[68,3,71,3],[68,4,71,4],[68,5,71,5],[68,6,71,6],[74,1,77,1],[74,2,77,2],[74,3,77,3],[74,4,77,4],[74,5,77,5],[86,6,89,6],[80,1,83,1],[80,2,83,2],[80,3,83,3],[80,4,83,4],[80,5,83,5],[80,6,83,6],[86,1,89,1],[86,2,89,2],[86,3,89,3],[86,4,89,4],[86,5,89,5],[97,1,97,5],[99,2,99,6],[101,2,101,6],[102,2,102,6],[92,1,95,1],[92,2,95,2],[92,3,95,3],[92,4,95,4],[92,5,95,5],[92,6,95,6]]}
[null,"04. PASSEIO MASCULINO"]
[null,"ITEM","IMAGEM ILUSTRATIUVA","MODELO","QTD","VALOR\nUNITÁRIO","VALOR\nTOTAL"]
[null,1,null,"BLUSÃO FLEECE MASCULINO / \n",1364,null,{"$f":"IF(E3=\"\",\"\",IF(F3=\"\",\"\",(E3*F3)))","v":""}]
[]
[]
[]
[]
[null,"ITEM","IMAGEM ILUSTRATIUVA","MODELO","QTD","VALOR\nUNITÁRIO","VALOR\nTOTAL"]
[null,2,null,"CALÇA FLEECE MASCULINA / \n\n",1364,null,{"$f":"IF(E9=\"\",\"\",IF(F9=\"\",\"\",(E9*F9)))","v":""}]
[]
[]
[]
[]
[null,"ITEM","IMAGEM ILUSTRATIUVA","MODELO","QTD","VALOR\nUNITÁRIO","VALOR\nTOTAL"]
[null,3,null,"BLUSÃO MASCULINO / \nPA.013.20",null,null,{"$f":"IF(E15=\"\",\"\",IF(F15=\"\",\"\",(E15*F15)))","v":""}]
[]
[]
[]
[]
[null,"ITEM","IMAGEM ILUSTRATIUVA","MODELO","QTD","VALOR\nUNITÁRIO","VALOR\nTOTAL"]
[null,4,null,"CALÇA MASCULINA / \nPA.014.20",null,null,{"$f":"IF(E21=\"\",\"\",IF(F21=\"\",\"\",(E21*F21)))","v":""}]
[]
[]
[]
[]
[null,"ITEM","IMAGEM ILUSTRATIUVA","MODELO","QTD","VALOR\nUNITÁRIO","VALOR\nTOTAL"]
[null,5,null,"CAMISA POLO MASCULINA POLIESTER / \nPA.018.20 (VERDE)",1364,null,{"$f":"IF(E27=\"\",\"\",IF(F27=\"\",\"\",(E27*F27)))","v":""}]
[]
[]
[]
[]
[null,"ITEM","IMAGEM ILUSTRATIUVA","MODELO","QTD","VALOR\nUNITÁRIO","VALOR\nTOTAL"]
[null,6,null,"CAMISA POLO MASCULINA POLIESTER / \nPA.043.20 (AZUL)",1364,null,{"$f":"IF(E33=\"\",\"\",IF(F33=\"\",\"\",(E33*F33)))","v":""}]
[]
[]
[]
[]
[null,"ITEM","IMAGEM ILUSTRATIUVA","MODELO","QTD","VALOR\nUNITÁRIO","VALOR\nTOTAL"]
[null,7,null,"CAMISA POLO MASCULINA PIQUET / \nPA.019.20 (BRANCA)",1554,null,{"$f":"IF(E39=\"\",\"\",IF(F39=\"\",\"\",(E39*F39)))","v":""}]
[]
[]
[]
[]
[null,"ITEM","IMAGEM ILUSTRATIUVA","MODELO","QTD","VALOR\nUNITÁRIO","VALOR\nTOTAL"]
[null,8,null,"CAMISA POLO MASCULINA PIQUET /\nPA.019.20 (VERDE)",1364,null,{"$f":"IF(E45=\"\",\"\",IF(F45=\"\",\"\",(E45*F45)))","v":""}]
[]
[]
[]
[]
[null,"ITEM","IMAGEM ILUSTRATIUVA","MODELO","QTD","VALOR\nUNITÁRIO","VALOR\nTOTAL"]
[null,9,null,"CAMISETA MASCULINA /\nPA.020.20 (BRANCA)",2574,null,{"$f":"IF(E51=\"\",\"\",IF(F51=\"\",\"\",(E51*F51)))","v":""}]
[]
[]
[]
[]
[null,"ITEM","IMAGEM ILUSTRATIUVA","MODELO","QTD","VALOR\nUNITÁRIO","VALOR\nTOTAL"]
[null,10,null,"CAMISETA MASCULINA /\n PA.059.20 (AMARELA)",1364,null,{"$f":"IF(E57=\"\",\"\",IF(F57=\"\",\"\",(E57*F57)))","v":""}]
[]
[]
[]
[]
[null,"ITEM","IMAGEM ILUSTRATIUVA","MODELO","QTD","VALOR\nUNITÁRIO","VALOR\nTOTAL"]
[null,11,null,"REGATA MASCULINA / \nPA.024.20 (AMARELA)",1364,null,{"$f":"IF(E63=\"\",\"\",IF(F63=\"\",\"\",(E63*F63)))","v":""}]
[]
[]
[]
[]
[null,"ITEM","IMAGEM ILUSTRATIUVA","MODELO","QTD","VALOR\nUNITÁRIO","VALOR\nTOTAL"]
[null,12,null,"REGATA MASCULINA / \nPA.024.20 (VERDE)",1364,null,{"$f":"IF(E69=\"\",\"\",IF(F69=\"\",\"\",(E69*F69)))","v":""}]
[]
[]
[]
[]
[null,"ITEM","IMAGEM ILUSTRATIUVA","MODELO","QTD","VALOR\nUNITÁRIO","VALOR\nTOTAL"]
[null,13,null,"BERMUDA MASCULINA /\nPA.025.20",1364,null,{"$f":"IF(E75=\"\",\"\",IF(F75=\"\",\"\",(E75*F75)))","v":""}]
[]
[]
[]
[]
[null,"ITEM","IMAGEM ILUSTRATIUVA","MODELO","QTD","VALOR\nUNITÁRIO","VALOR\nTOTAL"]
[null,14,null,"SHORT MASCULINO / \nCO.140.20 (AZUL MARINHO)",1364,null,{"$f":"IF(E81=\"\",\"\",IF(F81=\"\",\"\",(E81*F81)))","v":""}]
[]
[]
[]
[]
[null,"ITEM","IMAGEM ILUSTRATIUVA","MODELO","TOTAL","VALOR\nUNITÁRIO","VALOR\nTOTAL"]
[null,15,null,"SHORT MASCULINO / \nCO.140.20 (VERDE)",1364,null,{"$f":"IF(E87=\"\",\"\",IF(F87=\"\",\"\",(E87*F87)))","v":""}]
[]
[]
[]
[]
[null,"ITEM","IMAGEM ILUSTRATIUVA","MODELO","QTD","VALOR\nUNITÁRIO","VALOR\nTOTAL"]
[null,16,null,"CAMISETA SEGUNDA PELE MASCULINA / \nCO.132.20",1364,null,{"$f":"IF(E93=\"\",\"\",IF(F93=\"\",\"\",(E93*F93)))","v":""}]
[]
[]
[]
[]
[null,"TOTAL",null,null,null,null,{"$f":"IF(SUM(G3,G9,G15,G21,G27,G33,G39,G45,G51,G57,G63,G69,G75,G81,G87,G93,)=0,\"\",SUM(G3,G9,G15,G21,G27,G33,G39,G45,G51,G57,G63,G69,G75,G81,G87,G93,))","v":""}]
[]
[null,"Valor da Proposta:",{"$f":"G98","v":""}]
[]
[null,{"$f":"'00.Orçamento Resumo'!A7","v":"EMPRESA:"},{"$f":"IF('00.Orçamento Resumo'!$B$7=\"\",\"\",'00.Orçamento Resumo'!$B$7)","v":""}]
[null,{"$f":"'00.Orçamento Resumo'!A8","v":"CNPJ:"},{"$f":"IF('00.Orçamento Resumo'!$B$8=\"\",\"\",'00.Orçamento Resumo'!$B$8)","v":""}]

{"sheet":"05. ATLETISMO","index":6,"n_rows":145,"n_cols":7,"rows_kept":145,"cut":false,"hidden":false,"merged":[[8,1,11,1],[8,2,11,2],[8,3,11,3],[8,4,11,4],[8,5,11,5],[8,6,11,6],[2,1,5,1],[2,2,5,2],[2,3,5,3],[2,4,5,4],[2,5,5,5],[2,6,5,6],[20,1,23,1],[20,2,23,2],[20,3,23,3],[20,4,23,4],[20,5,23,5],[20,6,23,6],[14,1,17,1],[14,2,17,2],[14,3,17,3],[14,4,17,4],[14,5,17,5],[14,6,17,6],[32,1,35,1],[32,2,35,2],[32,3,35,3],[32,4,35,4],[32,5,35,5],[32,6,35,6],[26,1,29,1],[26,2,29,2],[26,3,29,3],[26,4,29,4],[26,5,29,5],[26,6,29,6],[44,1,47,1],[44,2,47,2],[44,3,47,3],[44,4,47,4],[44,5,47,5],[44,6,47,6],[38,1,41,1],[38,2,41,2],[38,3,41,3],[38,4,41,4],[38,5,41,5],[38,6,41,6],[56,1,59,1],[56,2,59,2],[56,3,59,3],[56,4,59,4],[56,5,59,5],[56,6,59,6],[50,1,53,1],[50,2,53,2],[50,3,53,3],[50,4,53,4],[50,5,53,5],[50,6,53,6],[68,1,71,1],[68,2,71,2],[68,3,71,3],[68,4,71,4],[68,5,71,5],[68,6,71,6],[62,1,65,1],[62,2,65,2],[62,3,65,3],[62,4,65,4],[62,5,65,5],[62,6,65,6],[80,1,83,1],[80,2,83,2],[80,3,83,3],[80,4,83,4],[80,5,83,5],[80,6,83,6],[74,1,77,1],[74,2,77,2],[74,3,77,3],[74,4,77,4],[74,5,77,5],[74,6,77,6],[92,1,95,1],[92,2,95,2],[92,3,95,3],[92,4,95,4],[92,5,95,5],[92,6,95,6],[86,1,89,1],[86,2,89,2],[86,3,89,3],[86,4,89,4],[86,5,89,5],[86,6,89,6],[104,1,107,1],[104,2,107,2],[104,3,107,3],[104,4,107,4],[104,5,107,5],[104,6,107,6],[98,1,101,1],[98,2,101,2],[98,3,101,3],[98,4,101,4],[98,5,101,5],[98,6,101,6],[116,1,119,1],[116,2,119,2],[116,3,119,3],[116,4,119,4],[116,5,119,5],[116,6,119,6],[110,1,113,1],[110,2,113,2],[110,3,113,3],[110,4,113,4],[110,5,113,5],[110,6,113,6],[128,1,131,1],[128,2,131,2],[128,3,131,3],[128,4,131,4],[128,5,131,5],[128,6,131,6],[122,1,125,1],[122,2,125,2],[122,3,125,3],[122,4,125,4],[122,5,125,5],[122,6,125,6],[139,1,139,5],[141,2,141,6],[143,2,143,6],[144,2,144,6],[134,1,137,1],[134,2,137,2],[134,3,137,3],[134,4,137,4],[134,5,137,5],[134,6,137,6]]}
[null,"05. ATLETISMO"]
[null,"ITEM","IMAGEM ILUSTRATIUVA","MODELO","QTD","VALOR\nUNITÁRIO","VALOR\nTOTAL"]
[null,1,null,"REGATA MASCULINA / \nCO.044.20 (AMARELA)",410,null,{"$f":"IF(E3=\"\",\"\",IF(F3=\"\",\"\",(E3*F3)))","v":""}]
[]
[]
[]
[]
[null,"ITEM","IMAGEM ILUSTRATIUVA","MODELO","QTD","VALOR\nUNITÁRIO","VALOR\nTOTAL"]
[null,2,null,"REGATA MASCULINA / \nCO.044.20 (VERDE)",410,null,{"$f":"IF(E9=\"\",\"\",IF(F9=\"\",\"\",(E9*F9)))","v":""}]
[]
[]
[]
[]
[null,"ITEM","IMAGEM ILUSTRATIUVA","MODELO","QTD","VALOR\nUNITÁRIO","VALOR\nTOTAL"]
[null,3,null,"REGATA MASCULINA / \nCO.045.20 (AZUL)",410,null,{"$f":"IF(E15=\"\",\"\",IF(F15=\"\",\"\",(E15*F15)))","v":""}]
[]
[]
[]
[]
[null,"ITEM","IMAGEM ILUSTRATIUVA","MODELO","QTD","VALOR\nUNITÁRIO","VALOR\nTOTAL"]
[null,4,null,"CAMISETA MANGA LONGA MASCULINA / \nCO.046.20",410,null,{"$f":"IF(E21=\"\",\"\",IF(F21=\"\",\"\",(E21*F21)))","v":""}]
[]
[]
[]
[]
[null,"ITEM","IMAGEM ILUSTRATIUVA","MODELO","QTD","VALOR\nUNITÁRIO","VALOR\nTOTAL"]
[null,5,null,"BERMUDA MASCULINA /\nCO.047.20",410,null,{"$f":"IF(E27=\"\",\"\",IF(F27=\"\",\"\",(E27*F27)))","v":""}]
[]
[]
[]
[]
[null,"ITEM","IMAGEM ILUSTRATIUVA","MODELO","QTD","VALOR\nUNITÁRIO","VALOR\nTOTAL"]
[null,6,null,"BERMUDA MASCULINA /\nCO.048.20 (LISA)",410,null,{"$f":"IF(E33=\"\",\"\",IF(F33=\"\",\"\",(E33*F33)))","v":""}]
[]
[]
[]
[]
[null,"ITEM","IMAGEM ILUSTRATIUVA","MODELO","QTD","VALOR\nUNITÁRIO","VALOR\nTOTAL"]
[null,7,null,"MACAQUINHO MASCULINO /\nCO.049.20",350,null,{"$f":"IF(E39=\"\",\"\",IF(F39=\"\",\"\",(E39*F39)))","v":""}]
[]
[]
[]
[]
[null,"ITEM","IMAGEM ILUSTRATIUVA","MODELO","QTD","VALOR\nUNITÁRIO","VALOR\nTOTAL"]
[null,8,null,"SHORT MASCULINO / \nCO.050.20",350,null,{"$f":"IF(E45=\"\",\"\",IF(F45=\"\",\"\",(E45*F45)))","v":""}]
[]
[]
[]
[]
[null,"ITEM","IMAGEM ILUSTRATIUVA","MODELO","QTD","VALOR\nUNITÁRIO","VALOR\nTOTAL"]
[null,9,null,"LEGGING MASCULINA /\nCO.051.20",410,null,{"$f":"IF(E51=\"\",\"\",IF(F51=\"\",\"\",(E51*F51)))","v":""}]
[]
[]
[]
[]
[null,"ITEM","IMAGEM ILUSTRATIUVA","MODELO","QTD","VALOR\nUNITÁRIO","VALOR\nTOTAL"]
[null,10,null,"LEGGING MASCULINA COM PÉ /\nCO.106.20",350,null,{"$f":"IF(E57=\"\",\"\",IF(F57=\"\",\"\",(E57*F57)))","v":""}]
[]
[]
[]
[]
[null,"ITEM","IMAGEM ILUSTRATIUVA","MODELO","QTD","VALOR\nUNITÁRIO","VALOR\nTOTAL"]
[null,11,null,"MANGUITO MASCULINO /\nCO.141.20",800,null,{"$f":"IF(E63=\"\",\"\",IF(F63=\"\",\"\",(E63*F63)))","v":""}]
[]
[]
[]
[]
[null,"ITEM","IMAGEM ILUSTRATIUVA","MODELO","QTD","VALOR\nUNITÁRIO","VALOR\nTOTAL"]
[null,12,null,"REGATA FEMININA / \nCO.070.20 (AZUL)",454,null,{"$f":"IF(E69=\"\",\"\",IF(F69=\"\",\"\",(E69*F69)))","v":""}]
[]
[]
[]
[]
[null,"ITEM","IMAGEM ILUSTRATIUVA","MODELO","QTD","VALOR\nUNITÁRIO","VALOR\nTOTAL"]
[null,13,null,"REGATA FEMININA / \nCO.071.20 (AMARELA)",454,null,{"$f":"IF(E75=\"\",\"\",IF(F75=\"\",\"\",(E75*F75)))","v":""}]
[]
[]
[]
[]
[null,"ITEM","IMAGEM ILUSTRATIUVA","MODELO","QTD","VALOR\nUNITÁRIO","VALOR\nTOTAL"]
[null,14,null,"Regata FEMININA / \nCO.071.20 (VERDE)",454,null,{"$f":"IF(E81=\"\",\"\",IF(F81=\"\",\"\",(E81*F81)))","v":""}]
[]
[]
[]
[]
[null,"ITEM","IMAGEM ILUSTRATIUVA","MODELO","QTD","VALOR\nUNITÁRIO","VALOR\nTOTAL"]
[null,15,null,"CROPPED FEMININO / \nCO.072.20",454,null,{"$f":"IF(E87=\"\",\"\",IF(F87=\"\",\"\",(E87*F87)))","v":""}]
[]
[]
[]
[]
[null,"ITEM","IMAGEM ILUSTRATIUVA","MODELO","QTD","VALOR\nUNITÁRIO","VALOR\nTOTAL"]
[null,16,null,"CAMISETA MANGA LONGA FEMININA / \nCO.073.20",454,null,{"$f":"IF(E93=\"\",\"\",IF(F93=\"\",\"\",(E93*F93)))","v":""}]
[]
[]
[]
[]
[null,"ITEM","IMAGEM ILUSTRATIUVA","MODELO","QTD","VALOR\nUNITÁRIO","VALOR\nTOTAL"]
[null,17,null,"BERMUDA FEMININA / \nCO.074.20",454,null,{"$f":"IF(E99=\"\",\"\",IF(F99=\"\",\"\",(E99*F99)))","v":""}]
[]
[]
[]
[]
[null,"ITEM","IMAGEM ILUSTRATIUVA","MODELO","QTD","VALOR\nUNITÁRIO","VALOR\nTOTAL"]
[null,18,null," BERMUDA FEMININA /\nCO.074.20 (LISA)",454,null,{"$f":"IF(E105=\"\",\"\",IF(F105=\"\",\"\",(E105*F105)))","v":""}]
[]
[]
[]
[]
[null,"ITEM","IMAGEM ILUSTRATIUVA","MODELO","QTD","VALOR\nUNITÁRIO","VALOR\nTOTAL"]
[null,19,null,"LEGGING FEMININA / \nCO.075.20",454,null,{"$f":"IF(E111=\"\",\"\",IF(F111=\"\",\"\",(E111*F111)))","v":""}]
[]
[]
[]
[]
[null,"ITEM","IMAGEM ILUSTRATIUVA","MODELO","QTD","VALOR\nUNITÁRIO","VALOR\nTOTAL"]
[null,20,null,"LEGGING FEMININA COM PÉ / \nCO.076.20 ",400,null,{"$f":"IF(E117=\"\",\"\",IF(F117=\"\",\"\",(E117*F117)))","v":""}]
[]
[]
[]
[]
[null,"ITEM","IMAGEM ILUSTRATIUVA","MODELO","QTD","VALOR\nUNITÁRIO","VALOR\nTOTAL"]
[null,21,null,"MACAQUINHO FEMININO /\nCO.077.20",400,null,{"$f":"IF(E123=\"\",\"\",IF(F123=\"\",\"\",(E123*F123)))","v":""}]
[]
[]
[]
[]
[null,"ITEM","IMAGEM ILUSTRATIUVA","MODELO","QTD","VALOR\nUNITÁRIO","VALOR\nTOTAL"]
[null,22,null,"SHORT FEMININO /\nCO.078.20",454,null,{"$f":"IF(E129=\"\",\"\",IF(F129=\"\",\"\",(E129*F129)))","v":""}]
[]
[]
[]
[]
[null,"ITEM","IMAGEM ILUSTRATIUVA","MODELO","QTD","VALOR\nUNITÁRIO","VALOR\nTOTAL"]
[null,23,null,"SUNKINI FEMININO /\nCO.079.20",400,null,{"$f":"IF(E135=\"\",\"\",IF(F135=\"\",\"\",(E135*F135)))","v":""}]
[]
[]
[]
[]
[null,"TOTAL",null,null,null,null,{"$f":"IF(SUM(G3,G9,G15,G21,G27,G33,G39,G45,G51,G57,G63,G69,G75,G81,G87,G93,G99,G105,G111,G117,G123,G129,G135)=0,\"\",SUM(G3,G9,G15,G21,G27,G33,G39,G45,G51,G57,G63,G69,G75,G81,G87,G93,G99,G105,G111,G117,G123,G129,G135))","v":""}]
[]
[null,"Valor da Proposta:",{"$f":"G140","v":""}]
[]
[null,{"$f":"'00.Orçamento Resumo'!A7","v":"EMPRESA:"},{"$f":"IF('00.Orçamento Resumo'!$B$7=\"\",\"\",'00.Orçamento Resumo'!$B$7)","v":""}]
[null,{"$f":"'00.Orçamento Resumo'!A8","v":"CNPJ:"},{"$f":"IF('00.Orçamento Resumo'!$B$8=\"\",\"\",'00.Orçamento Resumo'!$B$8)","v":""}]

{"sheet":"06. BASQUETE E RUGBY EM CR","index":7,"n_rows":85,"n_cols":7,"rows_kept":85,"cut":false,"hidden":false,"merged":[[79,1,79,5],[81,2,81,6],[83,2,83,6],[84,2,84,6],[74,6,77,6],[68,6,71,6],[74,1,77,1],[74,2,77,2],[74,3,77,3],[74,4,77,4],[74,5,77,5],[68,1,71,1],[68,2,71,2],[68,3,71,3],[68,4,71,4],[68,5,71,5],[62,6,65,6],[56,1,59,1],[56,2,59,2],[56,3,59,3],[56,4,59,4],[56,5,59,5],[56,6,59,6],[62,1,65,1],[62,2,65,2],[62,3,65,3],[62,4,65,4],[62,5,65,5],[50,6,53,6],[44,1,47,1],[44,2,47,2],[44,3,47,3],[44,4,47,4],[44,5,47,5],[44,6,47,6],[50,1,53,1],[50,2,53,2],[50,3,53,3],[50,4,53,4],[50,5,53,5],[38,6,41,6],[32,1,35,1],[32,2,35,2],[32,3,35,3],[32,4,35,4],[32,5,35,5],[32,6,35,6],[38,1,41,1],[38,2,41,2],[38,3,41,3],[38,4,41,4],[38,5,41,5],[26,6,29,6],[20,1,23,1],[20,2,23,2],[20,3,23,3],[20,4,23,4],[20,5,23,5],[20,6,23,6],[26,1,29,1],[26,2,29,2],[26,3,29,3],[26,4,29,4],[26,5,29,5],[14,6,17,6],[8,1,11,1],[8,2,11,2],[8,3,11,3],[8,4,11,4],[8,5,11,5],[8,6,11,6],[14,1,17,1],[14,2,17,2],[14,3,17,3],[14,4,17,4],[14,5,17,5],[2,6,5,6],[2,1,5,1],[2,2,5,2],[2,3,5,3],[2,4,5,4],[2,5,5,5]]}
[null,"06. BASQUETE E RUGBY EM CR"]
[null,"ITEM","IMAGEM ILUSTRATIUVA","MODELO","QTD","VALOR\nUNITÁRIO","VALOR\nTOTAL"]
[null,1,null,"REGATA MASCULINA /\nCO.055.20 (AMARELA)",60,null,{"$f":"IF(E3=\"\",\"\",IF(F3=\"\",\"\",(E3*F3)))","v":""}]
[]
[]
[]
[]
[null,"ITEM","IMAGEM ILUSTRATIUVA","MODELO","QTD","VALOR\nUNITÁRIO","VALOR\nTOTAL"]
[null,2,null,"REGATA MASCULINA / \nCO.057.20 (AZUL)",60,null,{"$f":"IF(E9=\"\",\"\",IF(F9=\"\",\"\",(E9*F9)))","v":""}]
[]
[]
[]
[]
[null,"ITEM","IMAGEM ILUSTRATIUVA","MODELO","QTD","VALOR\nUNITÁRIO","VALOR\nTOTAL"]
[null,3,null,"REGATA MASCULINA / \nCO.108.20 (BRANCA)",60,null,{"$f":"IF(E15=\"\",\"\",IF(F15=\"\",\"\",(E15*F15)))","v":""}]
[]
[]
[]
[]
[null,"ITEM","IMAGEM ILUSTRATIUVA","MODELO","QTD","VALOR\nUNITÁRIO","VALOR\nTOTAL"]
[null,4,null,"BERMUDA CAPRI MASCULINA /\nCO.065.20",60,null,{"$f":"IF(E21=\"\",\"\",IF(F21=\"\",\"\",(E21*F21)))","v":""}]
[]
[]
[]
[]
[null,"ITEM","IMAGEM ILUSTRATIUVA","MODELO","QTD","VALOR\nUNITÁRIO","VALOR\nTOTAL"]
[null,5,null,"BERMUDA MASCULINA /\nCO.066.20",60,null,{"$f":"IF(E27=\"\",\"\",IF(F27=\"\",\"\",(E27*F27)))","v":""}]
[]
[]
[]
[]
[null,"ITEM","IMAGEM ILUSTRATIUVA","MODELO","QTD","VALOR\nUNITÁRIO","VALOR\nTOTAL"]
[null,6,null,"CAMISETA SEGUNDA PELE MASCULINA / \nCO.132.20",1000,null,{"$f":"IF(E33=\"\",\"\",IF(F33=\"\",\"\",(E33*F33)))","v":""}]
[]
[]
[]
[]
[null,"ITEM","IMAGEM ILUSTRATIUVA","MODELO","QTD","VALOR\nUNITÁRIO","VALOR\nTOTAL"]
[null,7,null,"MANGUITO / \nCO.141.20",600,null,{"$f":"IF(E39=\"\",\"\",IF(F39=\"\",\"\",(E39*F39)))","v":""}]
[]
[]
[]
[]
[null,"ITEM","IMAGEM ILUSTRATIUVA","MODELO","QTD","VALOR\nUNITÁRIO","VALOR\nTOTAL"]
[null,8,null,"REGATA FEMININA / \nCO.109.20 (AMARELA)",60,null,{"$f":"IF(E45=\"\",\"\",IF(F45=\"\",\"\",(E45*F45)))","v":""}]
[]
[]
[]
[]
[null,"ITEM","IMAGEM ILUSTRATIUVA","MODELO","QTD","VALOR\nUNITÁRIO","VALOR\nTOTAL"]
[null,9,null,"REGATA FEMININA / \nCO.110.20 (BRANCA)",60,null,{"$f":"IF(E51=\"\",\"\",IF(F51=\"\",\"\",(E51*F51)))","v":""}]
[]
[]
[]
[]
[null,"ITEM","IMAGEM ILUSTRATIUVA","MODELO","QTD","VALOR\nUNITÁRIO","VALOR\nTOTAL"]
[null,10,null,"REGATA FEMININA / \nCO.110.20 (AZUL)",60,null,{"$f":"IF(E57=\"\",\"\",IF(F57=\"\",\"\",(E57*F57)))","v":""}]
[]
[]
[]
[]
[null,"ITEM","IMAGEM ILUSTRATIUVA","MODELO","QTD","VALOR\nUNITÁRIO","VALOR\nTOTAL"]
[null,11,null,"BERMUDA CAPRI FEMININA /\n ",64,null,{"$f":"IF(E63=\"\",\"\",IF(F63=\"\",\"\",(E63*F63)))","v":""}]
[]
[]
[]
[]
[null,"ITEM","IMAGEM ILUSTRATIUVA","MODELO","QTD","VALOR\nUNITÁRIO","VALOR\nTOTAL"]
[null,12,null,"BERMUDA FEMININA / \nCO.066.20",64,null,{"$f":"IF(E69=\"\",\"\",IF(F69=\"\",\"\",(E69*F69)))","v":""}]
[]
[]
[]
[]
[null,"ITEM","IMAGEM ILUSTRATIUVA","MODELO","QTD","VALOR\nUNITÁRIO","VALOR\nTOTAL"]
[null,13,null,"CAMISETA SEGUNDA FEMININA /\nCO.144.20",400,null,{"$f":"IF(E75=\"\",\"\",IF(F75=\"\",\"\",(E75*F75)))","v":""}]
[]
[]
[]
[]
[null,"TOTAL",null,null,null,null,{"$f":"IF(SUM(G3,G9,G15,G21,G27,G33,G39,G45,G51,G57,G63,G69,G75)=0,\"\",SUM(G3,G9,G15,G21,G27,G33,G39,G45,G51,G57,G63,G69,G75))","v":""}]
[]
[null,"Valor da Proposta:",{"$f":"G80","v":""}]
[]
[null,{"$f":"'00.Orçamento Resumo'!A7","v":"EMPRESA:"},{"$f":"IF('00.Orçamento Resumo'!$B$7=\"\",\"\",'00.Orçamento Resumo'!$B$7)","v":""}]
[null,{"$f":"'00.Orçamento Resumo'!A8","v":"CNPJ:"},{"$f":"IF('00.Orçamento Resumo'!$B$8=\"\",\"\",'00.Orçamento Resumo'!$B$8)","v":""}]

{"sheet":"07. PARABADMINTON","index":8,"n_rows":55,"n_cols":7,"rows_kept":55,"cut":false,"hidden":false,"merged":[[49,1,49,5],[51,2,51,6],[53,2,53,6],[54,2,54,6],[44,6,47,6],[38,6,41,6],[44,1,47,1],[44,2,47,2],[44,3,47,3],[44,4,47,4],[44,5,47,5],[38,1,41,1],[38,2,41,2],[38,3,41,3],[38,4,41,4],[38,5,41,5],[32,6,35,6],[26,1,29,1],[26,2,29,2],[26,3,29,3],[26,4,29,4],[26,5,29,5],[26,6,29,6],[32,1,35,1],[32,2,35,2],[32,3,35,3],[32,4,35,4],[32,5,35,5],[20,6,23,6],[14,1,17,1],[14,2,17,2],[14,3,17,3],[14,4,17,4],[14,5,17,5],[14,6,17,6],[20,1,23,1],[20,2,23,2],[20,3,23,3],[20,4,23,4],[20,5,23,5],[8,6,11,6],[2,1,5,1],[2,2,5,2],[2,3,5,3],[2,4,5,4],[2,5,5,5],[2,6,5,6],[8,1,11,1],[8,2,11,2],[8,3,11,3],[8,4,11,4],[8,5,11,5]]}
[null,"07. PARABADMINTON"]
[null,"ITEM","IMAGEM ILUSTRATIUVA","MODELO","QTD","VALOR\nUNITÁRIO","VALOR\nTOTAL"]
[null,1,null,"CAMISETA MASCULINA / CO.052.20 (AMARELA)",50,null,{"$f":"IF(E3=\"\",\"\",IF(F3=\"\",\"\",(E3*F3)))","v":""}]
[]
[]
[]
[]
[null,"ITEM","IMAGEM ILUSTRATIUVA","MODELO","QTD","VALOR\nUNITÁRIO","VALOR\nTOTAL"]
[null,2,null,"CAMISETA MASCULINA / CO.053.20 (VERDE)",50,null,{"$f":"IF(E9=\"\",\"\",IF(F9=\"\",\"\",(E9*F9)))","v":""}]
[]
[]
[]
[]
[null,"ITEM","IMAGEM ILUSTRATIUVA","MODELO","QTD","VALOR\nUNITÁRIO","VALOR\nTOTAL"]
[null,3,null,"CAMISETA MASCULINA / CO.054.20 (AZUL)",50,null,{"$f":"IF(E15=\"\",\"\",IF(F15=\"\",\"\",(E15*F15)))","v":""}]
[]
[]
[]
[]
[null,"ITEM","IMAGEM ILUSTRATIUVA","MODELO","QTD","VALOR\nUNITÁRIO","VALOR\nTOTAL"]
[null,4,null,"BERMUDA MASCULINA / CO.066.20",50,null,{"$f":"IF(E21=\"\",\"\",IF(F21=\"\",\"\",(E21*F21)))","v":""}]
[]
[]
[]
[]
[null,"ITEM","IMAGEM ILUSTRATIUVA","MODELO","QTD","VALOR\nUNITÁRIO","VALOR\nTOTAL"]
[null,5,null,"CAMISETA FEMININA / CO.080.20 (AMARELA)",40,null,{"$f":"IF(E27=\"\",\"\",IF(F27=\"\",\"\",(E27*F27)))","v":""}]
[]
[]
[]
[]
[null,"ITEM","IMAGEM ILUSTRATIUVA","MODELO","QTD","VALOR\nUNITÁRIO","VALOR\nTOTAL"]
[null,6,null,"CAMISETA FEMININA / CO.081.20 (VERDE)",40,null,{"$f":"IF(E33=\"\",\"\",IF(F33=\"\",\"\",(E33*F33)))","v":""}]
[]
[]
[]
[]
[null,"ITEM","IMAGEM ILUSTRATIUVA","MODELO","QTD","VALOR\nUNITÁRIO","VALOR\nTOTAL"]
[null,7,null,"CAMISETA FEMININA / CO.082.20 (AZUL)",40,null,{"$f":"IF(E39=\"\",\"\",IF(F39=\"\",\"\",(E39*F39)))","v":""}]
[]
[]
[]
[]
[null,"ITEM","IMAGEM ILUSTRATIUVA","MODELO","QTD","VALOR\nUNITÁRIO","VALOR\nTOTAL"]
[null,8,null,"SHORT SAIA FEMININO / CO.085.20",40,null,{"$f":"IF(E45=\"\",\"\",IF(F45=\"\",\"\",(E45*F45)))","v":""}]
[]
[]
[]
[]
[null,"TOTAL",null,null,null,null,{"$f":"IF(SUM(G3,G9,G15,G21,G27,G33,G39,G45)=0,\"\",SUM(G3,G9,G15,G21,G27,G33,G39,G45))","v":""}]
[]
[null,"Valor da Proposta:",{"$f":"G50","v":""}]
[]
[null,{"$f":"'00.Orçamento Resumo'!A7","v":"EMPRESA:"},{"$f":"IF('00.Orçamento Resumo'!$B$7=\"\",\"\",'00.Orçamento Resumo'!$B$7)","v":""}]
[null,{"$f":"'00.Orçamento Resumo'!A8","v":"CNPJ:"},{"$f":"IF('00.Orçamento Resumo'!$B$8=\"\",\"\",'00.Orçamento Resumo'!$B$8)","v":""}]

{"sheet":"08. BOCHA","index":9,"n_rows":43,"n_cols":7,"rows_kept":43,"cut":false,"hidden":false,"merged":[[8,6,11,6],[2,1,5,1],[2,2,5,2],[2,3,5,3],[2,4,5,4],[2,5,5,5],[2,6,5,6],[8,1,11,1],[8,2,11,2],[8,3,11,3],[8,4,11,4],[8,5,11,5],[20,6,23,6],[14,1,17,1],[14,2,17,2],[14,3,17,3],[14,4,17,4],[14,5,17,5],[14,6,17,6],[20,1,23,1],[20,2,23,2],[20,3,23,3],[20,4,23,4],[20,5,23,5],[26,6,29,6],[32,1,35,1],[32,2,35,2],[32,3,35,3],[32,4,35,4],[32,5,35,5],[26,1,29,1],[26,2,29,2],[26,3,29,3],[26,4,29,4],[26,5,29,5],[37,1,37,5],[39,2,39,6],[41,2,41,6],[42,2,42,6],[32,6,35,6]]}
[null,"08. BOCHA"]
[null,"ITEM","IMAGEM ILUSTRATIUVA","MODELO","QTD","VALOR\nUNITÁRIO","VALOR\nTOTAL"]
[null,1,null,"CAMISETA MASCULINA / CO.052.20 (AMARELA)",60,null,{"$f":"IF(E3=\"\",\"\",IF(F3=\"\",\"\",(E3*F3)))","v":""}]
[]
[]
[]
[]
[null,"ITEM","IMAGEM ILUSTRATIUVA","MODELO","QTD","VALOR\nUNITÁRIO","VALOR\nTOTAL"]
[null,2,null,"CAMISETA MASCULINA / CO.053.20 (VERDE)",60,null,{"$f":"IF(E9=\"\",\"\",IF(F9=\"\",\"\",(E9*F9)))","v":""}]
[]
[]
[]
[]
[null,"ITEM","IMAGEM ILUSTRATIUVA","MODELO","QTD","VALOR\nUNITÁRIO","VALOR\nTOTAL"]
[null,3,null,"CAMISETA MASCULINA / CO.054.20 (AZUL)",60,null,{"$f":"IF(E15=\"\",\"\",IF(F15=\"\",\"\",(E15*F15)))","v":""}]
[]
[]
[]
[]
[null,"ITEM","IMAGEM ILUSTRATIUVA","MODELO","QTD","VALOR\nUNITÁRIO","VALOR\nTOTAL"]
[null,4,null,"CAMISETA FEMININA / CO.080.20 (AMARELA)",60,null,{"$f":"IF(E21=\"\",\"\",IF(F21=\"\",\"\",(E21*F21)))","v":""}]
[]
[]
[]
[]
[null,"ITEM","IMAGEM ILUSTRATIUVA","MODELO","QTD","VALOR\nUNITÁRIO","VALOR\nTOTAL"]
[null,5,null,"CAMISETA FEMININA / CO.081.20 (VERDE)",60,null,{"$f":"IF(E27=\"\",\"\",IF(F27=\"\",\"\",(E27*F27)))","v":""}]
[]
[]
[]
[]
[null,"ITEM","IMAGEM ILUSTRATIUVA","MODELO","QTD","VALOR\nUNITÁRIO","VALOR\nTOTAL"]
[null,6,null,"CAMISETA FEMININA / CO.082.20 (AZUL)",60,null,{"$f":"IF(E33=\"\",\"\",IF(F33=\"\",\"\",(E33*F33)))","v":""}]
[]
[]
[]
[]
[null,"TOTAL",null,null,null,null,{"$f":"IF(SUM(G3,G9,G15,G21,G27,G33)=0,\"\",SUM(G3,G9,G15,G21,G27,G33))","v":""}]
[]
[null,"Valor da Proposta:",{"$f":"G38","v":""}]
[]
[null,{"$f":"'00.Orçamento Resumo'!A7","v":"EMPRESA:"},{"$f":"IF('00.Orçamento Resumo'!$B$7=\"\",\"\",'00.Orçamento Resumo'!$B$7)","v":""}]
[null,{"$f":"'00.Orçamento Resumo'!A8","v":"CNPJ:"},{"$f":"IF('00.Orçamento Resumo'!$B$8=\"\",\"\",'00.Orçamento Resumo'!$B$8)","v":""}]

{"sheet":"09. FUTEBOL DE CEGOS E PC","index":10,"n_rows":55,"n_cols":7,"rows_kept":55,"cut":false,"hidden":false,"merged":[[8,6,11,6],[2,1,5,1],[2,2,5,2],[2,3,5,3],[2,4,5,4],[2,5,5,5],[2,6,5,6],[8,1,11,1],[8,2,11,2],[8,3,11,3],[8,4,11,4],[8,5,11,5],[20,6,23,6],[14,1,17,1],[14,2,17,2],[14,3,17,3],[14,4,17,4],[14,5,17,5],[14,6,17,6],[20,1,23,1],[20,2,23,2],[20,3,23,3],[20,4,23,4],[20,5,23,5],[32,6,35,6],[26,1,29,1],[26,2,29,2],[26,3,29,3],[26,4,29,4],[26,5,29,5],[26,6,29,6],[32,1,35,1],[32,2,35,2],[32,3,35,3],[32,4,35,4],[32,5,35,5],[38,6,41,6],[44,1,47,1],[44,2,47,2],[44,3,47,3],[44,4,47,4],[44,5,47,5],[38,1,41,1],[38,2,41,2],[38,3,41,3],[38,4,41,4],[38,5,41,5],[49,1,49,5],[51,2,51,6],[53,2,53,6],[54,2,54,6],[44,6,47,6]]}
[null,"09. FUTEBOL DE CEGOS E PC"]
[null,"ITEM","IMAGEM ILUSTRATIUVA","MODELO","QTD","VALOR\nUNITÁRIO","VALOR\nTOTAL"]
[null,1,null,"CAMISETA MASCULINA /\nCO.052.20 (AMARELA)",60,null,{"$f":"IF(E3=\"\",\"\",IF(F3=\"\",\"\",(E3*F3)))","v":""}]
[]
[]
[]
[]
[null,"ITEM","IMAGEM ILUSTRATIUVA","MODELO","QTD","VALOR\nUNITÁRIO","VALOR\nTOTAL"]
[null,2,null,"CAMISETA MASCULINA /\nCO.053.20 (VERDE",60,null,{"$f":"IF(E9=\"\",\"\",IF(F9=\"\",\"\",(E9*F9)))","v":""}]
[]
[]
[]
[]
[null,"ITEM","IMAGEM ILUSTRATIUVA","MODELO","QTD","VALOR\nUNITÁRIO","VALOR\nTOTAL"]
[null,3,null,"CAMISETA MASCULINA /\nCO.054.20 (AZUL)",60,null,{"$f":"IF(E15=\"\",\"\",IF(F15=\"\",\"\",(E15*F15)))","v":""}]
[]
[]
[]
[]
[null,"ITEM","IMAGEM ILUSTRATIUVA","MODELO","QTD","VALOR\nUNITÁRIO","VALOR\nTOTAL"]
[null,4,null,"SHORT MASCULINO FUTEBOL /\nCO.140.20",60,null,{"$f":"IF(E21=\"\",\"\",IF(F21=\"\",\"\",(E21*F21)))","v":""}]
[]
[]
[]
[]
[null,"ITEM","IMAGEM ILUSTRATIUVA","MODELO","QTD","VALOR\nUNITÁRIO","VALOR\nTOTAL"]
[null,5,null,"SHORT MASCULINO FUTEBOL /\nCO.140.20 (BRANCO)",60,null,{"$f":"IF(E27=\"\",\"\",IF(F27=\"\",\"\",(E27*F27)))","v":""}]
[]
[]
[]
[]
[null,"ITEM","IMAGEM ILUSTRATIUVA","MODELO","QTD","VALOR\nUNITÁRIO","VALOR\nTOTAL"]
[null,6,null,"CAMISETA GOLEIRO \nMASCULINA / \nCO.101.20 (VERDE)",60,null,{"$f":"IF(E33=\"\",\"\",IF(F33=\"\",\"\",(E33*F33)))","v":""}]
[]
[]
[]
[]
[null,"ITEM","IMAGEM ILUSTRATIUVA","MODELO","QTD","VALOR\nUNITÁRIO","VALOR\nTOTAL"]
[null,7,null,"CAMISETA GOLEIRO \nMASCULINA / \nCO.103.20 (CINZA)",60,null,{"$f":"IF(E39=\"\",\"\",IF(F39=\"\",\"\",(E39*F39)))","v":""}]
[]
[]
[]
[]
[null,"ITEM","IMAGEM ILUSTRATIUVA","MODELO","QTD","VALOR\nUNITÁRIO","VALOR\nTOTAL"]
[null,8,null,"SHORT MASCULINO GOLEIRO / \nCO.068.20",60,null,{"$f":"IF(E45=\"\",\"\",IF(F45=\"\",\"\",(E45*F45)))","v":""}]
[]
[]
[]
[]
[null,"TOTAL",null,null,null,null,{"$f":"IF(SUM(G3,G9,G15,G21,G27,G33,G39,G45)=0,\"\",SUM(G3,G9,G15,G21,G27,G33,G39,G45))","v":""}]
[]
[null,"Valor da Proposta:",{"$f":"G50","v":""}]
[]
[null,{"$f":"'00.Orçamento Resumo'!A7","v":"EMPRESA:"},{"$f":"IF('00.Orçamento Resumo'!$B$7=\"\",\"\",'00.Orçamento Resumo'!$B$7)","v":""}]
[null,{"$f":"'00.Orçamento Resumo'!A8","v":"CNPJ:"},{"$f":"IF('00.Orçamento Resumo'!$B$8=\"\",\"\",'00.Orçamento Resumo'!$B$8)","v":""}]

{"sheet":"10. GOALBALL","index":11,"n_rows":55,"n_cols":7,"rows_kept":55,"cut":false,"hidden":false,"merged":[[8,6,11,6],[2,1,5,1],[2,2,5,2],[2,3,5,3],[2,4,5,4],[2,5,5,5],[2,6,5,6],[8,1,11,1],[8,2,11,2],[8,3,11,3],[8,4,11,4],[8,5,11,5],[20,6,23,6],[14,1,17,1],[14,2,17,2],[14,3,17,3],[14,4,17,4],[14,5,17,5],[14,6,17,6],[20,1,23,1],[20,2,23,2],[20,3,23,3],[20,4,23,4],[20,5,23,5],[32,6,35,6],[26,1,29,1],[26,2,29,2],[26,3,29,3],[26,4,29,4],[26,5,29,5],[26,6,29,6],[32,1,35,1],[32,2,35,2],[32,3,35,3],[32,4,35,4],[32,5,35,5],[38,6,41,6],[44,1,47,1],[44,2,47,2],[44,3,47,3],[44,4,47,4],[44,5,47,5],[38,1,41,1],[38,2,41,2],[38,3,41,3],[38,4,41,4],[38,5,41,5],[49,1,49,5],[51,2,51,6],[53,2,53,6],[54,2,54,6],[44,6,47,6]]}
[null,"10. GOALBALL"]
[null,"ITEM","IMAGEM ILUSTRATIUVA","MODELO","QTD","VALOR\nUNITÁRIO","VALOR\nTOTAL"]
[null,1,null,"CAMISETA ACOLCHOADA MASCULINA / \nCO.133.20 (AMARELA)",40,null,{"$f":"IF(E3=\"\",\"\",IF(F3=\"\",\"\",(E3*F3)))","v":""}]
[]
[]
[]
[]
[null,"ITEM","IMAGEM ILUSTRATIUVA","MODELO","QTD","VALOR\nUNITÁRIO","VALOR\nTOTAL"]
[null,2,null,"CAMISETA ACOLCHOADA MASCULINA / \nCO.134.20 (AZUL)",40,null,{"$f":"IF(E9=\"\",\"\",IF(F9=\"\",\"\",(E9*F9)))","v":""}]
[]
[]
[]
[]
[null,"ITEM","IMAGEM ILUSTRATIUVA","MODELO","QTD","VALOR\nUNITÁRIO","VALOR\nTOTAL"]
[null,3,null,"CAMISETA ACOLCHOADA MASCULINA / \nCO.135.20 (VERDE)",40,null,{"$f":"IF(E15=\"\",\"\",IF(F15=\"\",\"\",(E15*F15)))","v":""}]
[]
[]
[]
[]
[null,"ITEM","IMAGEM ILUSTRATIUVA","MODELO","QTD","VALOR\nUNITÁRIO","VALOR\nTOTAL"]
[null,4,null,"CALÇA MASCULINA GOLEIRO / \nCO.136.20",40,null,{"$f":"IF(E21=\"\",\"\",IF(F21=\"\",\"\",(E21*F21)))","v":""}]
[]
[]
[]
[]
[null,"ITEM","IMAGEM ILUSTRATIUVA","MODELO","QTD","VALOR\nUNITÁRIO","VALOR\nTOTAL"]
[null,5,null,"CALÇA FEMININA GOLEIRO / \nCO.148.20",40,null,{"$f":"IF(E27=\"\",\"\",IF(F27=\"\",\"\",(E27*F27)))","v":""}]
[]
[]
[]
[]
[null,"ITEM","IMAGEM ILUSTRATIUVA","MODELO","QTD","VALOR\nUNITÁRIO","VALOR\nTOTAL"]
[null,6,null,"CAMISETA ACOLCHOADA FEMININA / \nCO.137.20 (AMARELA)",40,null,{"$f":"IF(E33=\"\",\"\",IF(F33=\"\",\"\",(E33*F33)))","v":""}]
[]
[]
[]
[]
[null,"ITEM","IMAGEM ILUSTRATIUVA","MODELO","QTD","VALOR\nUNITÁRIO","VALOR\nTOTAL"]
[null,7,null,"CAMISETA ACOLCHOADA FEMININA / \nCO.138.20 (VERDE)",40,null,{"$f":"IF(E39=\"\",\"\",IF(F39=\"\",\"\",(E39*F39)))","v":""}]
[]
[]
[]
[]
[null,"ITEM","IMAGEM ILUSTRATIUVA","MODELO","QTD","VALOR\nUNITÁRIO","VALOR\nTOTAL"]
[null,8,null,"CAMISETA ACOLCHOADA FEMININA / \nCO.139.20 (AZUL)",40,null,{"$f":"IF(E45=\"\",\"\",IF(F45=\"\",\"\",(E45*F45)))","v":""}]
[]
[]
[]
[]
[null,"TOTAL",null,null,null,null,{"$f":"IF(SUM(G3,G9,G15,G21,G27,G33,G39,G45)=0,\"\",SUM(G3,G9,G15,G21,G27,G33,G39,G45))","v":""}]
[]
[null,"Valor da Proposta:",{"$f":"G50","v":""}]
[]
[null,{"$f":"'00.Orçamento Resumo'!A7","v":"EMPRESA:"},{"$f":"IF('00.Orçamento Resumo'!$B$7=\"\",\"\",'00.Orçamento Resumo'!$B$7)","v":""}]
[null,{"$f":"'00.Orçamento Resumo'!A8","v":"CNPJ:"},{"$f":"IF('00.Orçamento Resumo'!$B$8=\"\",\"\",'00.Orçamento Resumo'!$B$8)","v":""}]

{"sheet":"11. HALTEROFILISMO","index":12,"n_rows":19,"n_cols":7,"rows_kept":19,"cut":false,"hidden":false,"merged":[[2,6,5,6],[8,1,11,1],[8,2,11,2],[8,3,11,3],[8,4,11,4],[8,5,11,5],[2,1,5,1],[2,2,5,2],[2,3,5,3],[2,4,5,4],[2,5,5,5],[13,1,13,5],[15,2,15,6],[17,2,17,6],[18,2,18,6],[8,6,11,6]]}
[null,"11. HALTEROFILISMO"]
[null,"ITEM","IMAGEM ILUSTRATIUVA","MODELO","QTD","VALOR\nUNITÁRIO","VALOR\nTOTAL"]
[null,1,null,"CAMISETA MASCULINA /\nHT.098.20",170,null,{"$f":"IF(E3=\"\",\"\",IF(F3=\"\",\"\",(E3*F3)))","v":""}]
[]
[]
[]
[]
[null,"ITEM","IMAGEM ILUSTRATIUVA","MODELO","QTD","VALOR\nUNITÁRIO","VALOR\nTOTAL"]
[null,2,null,"CAMISETA FEMININA /\nHT.100.20",170,null,{"$f":"IF(E9=\"\",\"\",IF(F9=\"\",\"\",(E9*F9)))","v":""}]
[]
[]
[]
[]
[null,"TOTAL",null,null,null,null,{"$f":"IF(SUM(G3,G9,)=0,\"\",SUM(G3,G9))","v":""}]
[]
[null,"Valor da Proposta:",{"$f":"G14","v":""}]
[]
[null,{"$f":"'00.Orçamento Resumo'!A7","v":"EMPRESA:"},{"$f":"IF('00.Orçamento Resumo'!$B$7=\"\",\"\",'00.Orçamento Resumo'!$B$7)","v":""}]
[null,{"$f":"'00.Orçamento Resumo'!A8","v":"CNPJ:"},{"$f":"IF('00.Orçamento Resumo'!$B$8=\"\",\"\",'00.Orçamento Resumo'!$B$8)","v":""}]

{"sheet":"12. TÊNIS DE MESA","index":13,"n_rows":61,"n_cols":7,"rows_kept":61,"cut":false,"hidden":false,"merged":[[2,6,5,6],[2,1,5,1],[2,2,5,2],[2,3,5,3],[2,4,5,4],[2,5,5,5],[14,6,17,6],[8,1,11,1],[8,2,11,2],[8,3,11,3],[8,4,11,4],[8,5,11,5],[8,6,11,6],[14,1,17,1],[14,2,17,2],[14,3,17,3],[14,4,17,4],[14,5,17,5],[26,6,29,6],[20,1,23,1],[20,2,23,2],[20,3,23,3],[20,4,23,4],[20,5,23,5],[20,6,23,6],[26,1,29,1],[26,2,29,2],[26,3,29,3],[26,4,29,4],[26,5,29,5],[38,6,41,6],[32,1,35,1],[32,2,35,2],[32,3,35,3],[32,4,35,4],[32,5,35,5],[32,6,35,6],[38,1,41,1],[38,2,41,2],[38,3,41,3],[38,4,41,4],[38,5,41,5],[44,6,47,6],[50,1,53,1],[50,2,53,2],[50,3,53,3],[50,4,53,4],[50,5,53,5],[44,1,47,1],[44,2,47,2],[44,3,47,3],[44,4,47,4],[44,5,47,5],[55,1,55,5],[57,2,57,6],[59,2,59,6],[60,2,60,6],[50,6,53,6]]}
[null,"12. TÊNIS DE MESA"]
[null,"ITEM","IMAGEM ILUSTRATIUVA","MODELO","QTD","VALOR\nUNITÁRIO","VALOR\nTOTAL"]
[null,1,null,"CAMISETA MASCULINA /\n CO.052.20 (AMARELA)",118,null,{"$f":"IF(E3=\"\",\"\",IF(F3=\"\",\"\",(E3*F3)))","v":""}]
[]
[]
[]
[]
[null,"ITEM","IMAGEM ILUSTRATIUVA","MODELO","QTD","VALOR\nUNITÁRIO","VALOR\nTOTAL"]
[null,2,null,"CAMISETA MASCULINA /\n CO.053.20 (VERDE)",118,null,{"$f":"IF(E9=\"\",\"\",IF(F9=\"\",\"\",(E9*F9)))","v":""}]
[]
[]
[]
[]
[null,"ITEM","IMAGEM ILUSTRATIUVA","MODELO","QTD","VALOR\nUNITÁRIO","VALOR\nTOTAL"]
[null,3,null,"CAMISETA MASCULINA /\nCO.054.20 (AZUL)",118,null,{"$f":"IF(E15=\"\",\"\",IF(F15=\"\",\"\",(E15*F15)))","v":""}]
[]
[]
[]
[]
[null,"ITEM","IMAGEM ILUSTRATIUVA","MODELO","QTD","VALOR\nUNITÁRIO","VALOR\nTOTAL"]
[null,4,null,"BERMUDA MASCULINA /\nCO.066.20",118,null,{"$f":"IF(E21=\"\",\"\",IF(F21=\"\",\"\",(E21*F21)))","v":""}]
[]
[]
[]
[]
[null,"ITEM","IMAGEM ILUSTRATIUVA","MODELO","QTD","VALOR\nUNITÁRIO","VALOR\nTOTAL"]
[null,5,null,"CALÇA MASCULINA / \nCO.146.20",40,null,{"$f":"IF(E27=\"\",\"\",IF(F27=\"\",\"\",(E27*F27)))","v":""}]
[]
[]
[]
[]
[null,"ITEM","IMAGEM ILUSTRATIUVA","MODELO","QTD","VALOR\nUNITÁRIO","VALOR\nTOTAL"]
[null,6,null,"CAMISETA FEMININA /\nCO.080.20 (AMARELO)",82,null,{"$f":"IF(E33=\"\",\"\",IF(F33=\"\",\"\",(E33*F33)))","v":""}]
[]
[]
[]
[]
[null,"ITEM","IMAGEM ILUSTRATIUVA","MODELO","QTD","VALOR\nUNITÁRIO","VALOR\nTOTAL"]
[null,7,null,"CAMISETA FEMININA /\nCO.081.20 (VERDE)",82,null,{"$f":"IF(E39=\"\",\"\",IF(F39=\"\",\"\",(E39*F39)))","v":""}]
[]
[]
[]
[]
[null,"ITEM","IMAGEM ILUSTRATIUVA","MODELO","QTD","VALOR\nUNITÁRIO","VALOR\nTOTAL"]
[null,8,null,"CAMISETA FEMININA / \nCO.082.20 (AZUL)",82,null,{"$f":"IF(E45=\"\",\"\",IF(F45=\"\",\"\",(E45*F45)))","v":""}]
[]
[]
[]
[]
[null,"ITEM","IMAGEM ILUSTRATIUVA","MODELO","QTD","VALOR\nUNITÁRIO","VALOR\nTOTAL"]
[null,9,null,"SHORT SAIA FEMININO /\nCO.085.20",82,null,{"$f":"IF(E51=\"\",\"\",IF(F51=\"\",\"\",(E51*F51)))","v":""}]
[]
[]
[]
[]
[null,"TOTAL",null,null,null,null,{"$f":"IF(SUM(G3,G9,G15,G21,G27,G33,G39,G45,G51)=0,\"\",SUM(G3,G9,G15,G21,G27,G33,G39,G45,G51))","v":""}]
[]
[null,"Valor da Proposta:",{"$f":"G56","v":""}]
[]
[null,{"$f":"'00.Orçamento Resumo'!A7","v":"EMPRESA:"},{"$f":"IF('00.Orçamento Resumo'!$B$7=\"\",\"\",'00.Orçamento Resumo'!$B$7)","v":""}]
[null,{"$f":"'00.Orçamento Resumo'!A8","v":"CNPJ:"},{"$f":"IF('00.Orçamento Resumo'!$B$8=\"\",\"\",'00.Orçamento Resumo'!$B$8)","v":""}]

{"sheet":"13. TÊNIS EM CR","index":14,"n_rows":61,"n_cols":7,"rows_kept":61,"cut":false,"hidden":false,"merged":[[2,6,5,6],[2,1,5,1],[2,2,5,2],[2,3,5,3],[2,4,5,4],[2,5,5,5],[14,6,17,6],[8,1,11,1],[8,2,11,2],[8,3,11,3],[8,4,11,4],[8,5,11,5],[8,6,11,6],[14,1,17,1],[14,2,17,2],[14,3,17,3],[14,4,17,4],[14,5,17,5],[26,6,29,6],[20,1,23,1],[20,2,23,2],[20,3,23,3],[20,4,23,4],[20,5,23,5],[20,6,23,6],[26,1,29,1],[26,2,29,2],[26,3,29,3],[26,4,29,4],[26,5,29,5],[38,6,41,6],[32,1,35,1],[32,2,35,2],[32,3,35,3],[32,4,35,4],[32,5,35,5],[32,6,35,6],[38,1,41,1],[38,2,41,2],[38,3,41,3],[38,4,41,4],[38,5,41,5],[44,6,47,6],[50,1,53,1],[50,2,53,2],[50,3,53,3],[50,4,53,4],[50,5,53,5],[44,1,47,1],[44,2,47,2],[44,3,47,3],[44,4,47,4],[44,5,47,5],[55,1,55,5],[57,2,57,6],[59,2,59,6],[60,2,60,6],[50,6,53,6]]}
[null,"13. TÊNIS EM CR"]
[null,"ITEM","IMAGEM ILUSTRATIUVA","MODELO","QTD","VALOR\nUNITÁRIO","VALOR\nTOTAL"]
[null,1,null,"CAMISETA MASCULINA /\n CO.052.20 (AMARELA)",16,null,{"$f":"IF(E3=\"\",\"\",IF(F3=\"\",\"\",(E3*F3)))","v":""}]
[]
[]
[]
[]
[null,"ITEM","IMAGEM ILUSTRATIUVA","MODELO","QTD","VALOR\nUNITÁRIO","VALOR\nTOTAL"]
[null,2,null,"CAMISETA MASCULINA /\n CO.053.20 (VERDE)",16,null,{"$f":"IF(E9=\"\",\"\",IF(F9=\"\",\"\",(E9*F9)))","v":""}]
[]
[]
[]
[]
[null,"ITEM","IMAGEM ILUSTRATIUVA","MODELO","QTD","VALOR\nUNITÁRIO","VALOR\nTOTAL"]
[null,3,null,"CAMISETA MASCULINA /\nCO.054.20 (AZUL)",16,null,{"$f":"IF(E15=\"\",\"\",IF(F15=\"\",\"\",(E15*F15)))","v":""}]
[]
[]
[]
[]
[null,"ITEM","IMAGEM ILUSTRATIUVA","MODELO","QTD","VALOR\nUNITÁRIO","VALOR\nTOTAL"]
[null,4,null,"BERMUDA MASCULINA /\nCO.066.20",16,null,{"$f":"IF(E21=\"\",\"\",IF(F21=\"\",\"\",(E21*F21)))","v":""}]
[]
[]
[]
[]
[null,"ITEM","IMAGEM ILUSTRATIUVA","MODELO","QTD","VALOR\nUNITÁRIO","VALOR\nTOTAL"]
[null,5,null,"CALÇA MASCULINA / \nCO.146.20",16,null,{"$f":"IF(E27=\"\",\"\",IF(F27=\"\",\"\",(E27*F27)))","v":""}]
[]
[]
[]
[]
[null,"ITEM","IMAGEM ILUSTRATIUVA","MODELO","QTD","VALOR\nUNITÁRIO","VALOR\nTOTAL"]
[null,6,null,"CAMISETA FEMININA /\nCO.080.20 (AMARELO)",8,null,{"$f":"IF(E33=\"\",\"\",IF(F33=\"\",\"\",(E33*F33)))","v":""}]
[]
[]
[]
[]
[null,"ITEM","IMAGEM ILUSTRATIUVA","MODELO","QTD","VALOR\nUNITÁRIO","VALOR\nTOTAL"]
[null,7,null,"CAMISETA FEMININA /\nCO.081.20 (VERDE)",8,null,{"$f":"IF(E39=\"\",\"\",IF(F39=\"\",\"\",(E39*F39)))","v":""}]
[]
[]
[]
[]
[null,"ITEM","IMAGEM ILUSTRATIUVA","MODELO","QTD","VALOR\nUNITÁRIO","VALOR\nTOTAL"]
[null,8,null,"CAMISETA FEMININA / \nCO.082.20 (AZUL)",8,null,{"$f":"IF(E45=\"\",\"\",IF(F45=\"\",\"\",(E45*F45)))","v":""}]
[]
[]
[]
[]
[null,"ITEM","IMAGEM ILUSTRATIUVA","MODELO","QTD","VALOR\nUNITÁRIO","VALOR\nTOTAL"]
[null,9,null,"SHORT SAIA FEMININO /\nCO.085.20",8,null,{"$f":"IF(E51=\"\",\"\",IF(F51=\"\",\"\",(E51*F51)))","v":""}]
[]
[]
[]
[]
[null,"TOTAL",null,null,null,null,{"$f":"IF(SUM(G3,G9,G15,G21,G27,G33,G39,G45,G51)=0,\"\",SUM(G3,G9,G15,G21,G27,G33,G39,G45,G51))","v":""}]
[]
[null,"Valor da Proposta:",{"$f":"G56","v":""}]
[]
[null,{"$f":"'00.Orçamento Resumo'!A7","v":"EMPRESA:"},{"$f":"IF('00.Orçamento Resumo'!$B$7=\"\",\"\",'00.Orçamento Resumo'!$B$7)","v":""}]
[null,{"$f":"'00.Orçamento Resumo'!A8","v":"CNPJ:"},{"$f":"IF('00.Orçamento Resumo'!$B$8=\"\",\"\",'00.Orçamento Resumo'!$B$8)","v":""}]

{"sheet":"14. TIRO COM ARCO","index":15,"n_rows":49,"n_cols":7,"rows_kept":49,"cut":false,"hidden":false,"merged":[[2,6,5,6],[2,1,5,1],[2,2,5,2],[2,3,5,3],[2,4,5,4],[2,5,5,5],[14,6,17,6],[8,1,11,1],[8,2,11,2],[8,3,11,3],[8,4,11,4],[8,5,11,5],[8,6,11,6],[14,1,17,1],[14,2,17,2],[14,3,17,3],[14,4,17,4],[14,5,17,5],[26,6,29,6],[20,1,23,1],[20,2,23,2],[20,3,23,3],[20,4,23,4],[20,5,23,5],[20,6,23,6],[26,1,29,1],[26,2,29,2],[26,3,29,3],[26,4,29,4],[26,5,29,5],[32,6,35,6],[38,1,41,1],[38,2,41,2],[38,3,41,3],[38,4,41,4],[38,5,41,5],[32,1,35,1],[32,2,35,2],[32,3,35,3],[32,4,35,4],[32,5,35,5],[43,1,43,5],[45,2,45,6],[47,2,47,6],[48,2,48,6],[38,6,41,6]]}
[null,"14. TIRO COM ARCO"]
[null,"ITEM","IMAGEM ILUSTRATIUVA","MODELO","QTD","VALOR\nUNITÁRIO","VALOR\nTOTAL"]
[null,1,null,"CAMISETA MASCULINA /\nCO.052.20 (AMARELA)",20,null,{"$f":"IF(E3=\"\",\"\",IF(F3=\"\",\"\",(E3*F3)))","v":""}]
[]
[]
[]
[]
[null,"ITEM","IMAGEM ILUSTRATIUVA","MODELO","QTD","VALOR\nUNITÁRIO","VALOR\nTOTAL"]
[null,2,null,"CAMISETA MASCULINA /\nCO.053.20 (VERDE)",20,null,{"$f":"IF(E9=\"\",\"\",IF(F9=\"\",\"\",(E9*F9)))","v":""}]
[]
[]
[]
[]
[null,"ITEM","IMAGEM ILUSTRATIUVA","MODELO","QTD","VALOR\nUNITÁRIO","VALOR\nTOTAL"]
[null,3,null,"CAMISETA MASCULINA /\nCO.054.20 (AZUL)",20,null,{"$f":"IF(E15=\"\",\"\",IF(F15=\"\",\"\",(E15*F15)))","v":""}]
[]
[]
[]
[]
[null,"ITEM","IMAGEM ILUSTRATIUVA","MODELO","QTD","VALOR\nUNITÁRIO","VALOR\nTOTAL"]
[null,4,null,"CAMISETA FEMININA /\nCO.080.20 (AMARELA)",20,null,{"$f":"IF(E21=\"\",\"\",IF(F21=\"\",\"\",(E21*F21)))","v":""}]
[]
[]
[]
[]
[null,"ITEM","IMAGEM ILUSTRATIUVA","MODELO","QTD","VALOR\nUNITÁRIO","VALOR\nTOTAL"]
[null,5,null,"CAMISETA FEMININA /\nCO.081.20 (VERDE)",20,null,{"$f":"IF(E27=\"\",\"\",IF(F27=\"\",\"\",(E27*F27)))","v":""}]
[]
[]
[]
[]
[null,"ITEM","IMAGEM ILUSTRATIUVA","MODELO","QTD","VALOR\nUNITÁRIO","VALOR\nTOTAL"]
[null,6,null,"CAMISETA FEMININA /\nCO.082.20 (AZUL)",20,null,{"$f":"IF(E33=\"\",\"\",IF(F33=\"\",\"\",(E33*F33)))","v":""}]
[]
[]
[]
[]
[null,"ITEM","IMAGEM ILUSTRATIUVA","MODELO","QTD","VALOR\nUNITÁRIO","VALOR\nTOTAL"]
[null,7,null,"MANGUITO / \nCO.141.20 (BRANCO)",40,null,{"$f":"IF(E39=\"\",\"\",IF(F39=\"\",\"\",(E39*F39)))","v":""}]
[]
[]
[]
[]
[null,"TOTAL",null,null,null,null,{"$f":"IF(SUM(G3,G9,G15,G21,G27,G33,G39)=0,\"\",SUM(G3,G9,G15,G21,G27,G33,G39))","v":""}]
[]
[null,"Valor da Proposta:",{"$f":"G44","v":""}]
[]
[null,{"$f":"'00.Orçamento Resumo'!A7","v":"EMPRESA:"},{"$f":"IF('00.Orçamento Resumo'!$B$7=\"\",\"\",'00.Orçamento Resumo'!$B$7)","v":""}]
[null,{"$f":"'00.Orçamento Resumo'!A8","v":"CNPJ:"},{"$f":"IF('00.Orçamento Resumo'!$B$8=\"\",\"\",'00.Orçamento Resumo'!$B$8)","v":""}]

{"sheet":"15. TIRO ESPORTIVO","index":16,"n_rows":43,"n_cols":7,"rows_kept":43,"cut":false,"hidden":false,"merged":[[8,6,11,6],[2,1,5,1],[2,2,5,2],[2,3,5,3],[2,4,5,4],[2,5,5,5],[2,6,5,6],[8,1,11,1],[8,2,11,2],[8,3,11,3],[8,4,11,4],[8,5,11,5],[20,6,23,6],[14,1,17,1],[14,2,17,2],[14,3,17,3],[14,4,17,4],[14,5,17,5],[14,6,17,6],[20,1,23,1],[20,2,23,2],[20,3,23,3],[20,4,23,4],[20,5,23,5],[26,6,29,6],[32,1,35,1],[32,2,35,2],[32,3,35,3],[32,4,35,4],[32,5,35,5],[26,1,29,1],[26,2,29,2],[26,3,29,3],[26,4,29,4],[26,5,29,5],[37,1,37,5],[39,2,39,6],[41,2,41,6],[42,2,42,6],[32,6,35,6]]}
[null,"15. TIRO ESPORTIVO"]
[null,"ITEM","IMAGEM ILUSTRATIUVA","MODELO","QTD","VALOR\nUNITÁRIO","VALOR\nTOTAL"]
[null,1,null,"CAMISETA MASCULINA /\nCO.052.20 (AMARELA)",30,null,{"$f":"IF(E3=\"\",\"\",IF(F3=\"\",\"\",(E3*F3)))","v":""}]
[]
[]
[]
[]
[null,"ITEM","IMAGEM ILUSTRATIUVA","MODELO","QTD","VALOR\nUNITÁRIO","VALOR\nTOTAL"]
[null,2,null,"CAMISETA MASCULINA /\nCO.053.20 (VERDE)",30,null,{"$f":"IF(E9=\"\",\"\",IF(F9=\"\",\"\",(E9*F9)))","v":""}]
[]
[]
[]
[]
[null,"ITEM","IMAGEM ILUSTRATIUVA","MODELO","QTD","VALOR\nUNITÁRIO","VALOR\nTOTAL"]
[null,3,null,"CAMISETA MASCULINA /\nCO.054.20 (AZUL)",30,null,{"$f":"IF(E15=\"\",\"\",IF(F15=\"\",\"\",(E15*F15)))","v":""}]
[]
[]
[]
[]
[null,"ITEM","IMAGEM ILUSTRATIUVA","MODELO","QTD","VALOR\nUNITÁRIO","VALOR\nTOTAL"]
[null,4,null,"CAMISETA FEMININA /\nCO.080.20 (AMARELA)",30,null,{"$f":"IF(E21=\"\",\"\",IF(F21=\"\",\"\",(E21*F21)))","v":""}]
[]
[]
[]
[]
[null,"ITEM","IMAGEM ILUSTRATIUVA","MODELO","QTD","VALOR\nUNITÁRIO","VALOR\nTOTAL"]
[null,5,null,"CAMISETA FEMININA /\nCO.081.20 (VERDE)",30,null,{"$f":"IF(E27=\"\",\"\",IF(F27=\"\",\"\",(E27*F27)))","v":""}]
[]
[]
[]
[]
[null,"ITEM","IMAGEM ILUSTRATIUVA","MODELO","QTD","VALOR\nUNITÁRIO","VALOR\nTOTAL"]
[null,6,null,"CAMISETA FEMININA /\nCO.082.20 (AZUL)",30,null,{"$f":"IF(E33=\"\",\"\",IF(F33=\"\",\"\",(E33*F33)))","v":""}]
[]
[]
[]
[]
[null,"TOTAL",null,null,null,null,{"$f":"IF(SUM(G3,G9,G15,G21,G27,G33)=0,\"\",SUM(G3,G9,G15,G21,G27,G33))","v":""}]
[]
[null,"Valor da Proposta:",{"$f":"G38","v":""}]
[]
[null,{"$f":"'00.Orçamento Resumo'!A7","v":"EMPRESA:"},{"$f":"IF('00.Orçamento Resumo'!$B$7=\"\",\"\",'00.Orçamento Resumo'!$B$7)","v":""}]
[null,{"$f":"'00.Orçamento Resumo'!A8","v":"CNPJ:"},{"$f":"IF('00.Orçamento Resumo'!$B$8=\"\",\"\",'00.Orçamento Resumo'!$B$8)","v":""}]

{"sheet":"16. VÔLEI SENTADO","index":17,"n_rows":109,"n_cols":7,"rows_kept":109,"cut":false,"hidden":false,"merged":[[8,1,11,1],[8,2,11,2],[8,3,11,3],[8,4,11,4],[8,5,11,5],[8,6,11,6],[2,1,5,1],[2,2,5,2],[2,3,5,3],[2,4,5,4],[2,5,5,5],[2,6,5,6],[20,1,23,1],[20,2,23,2],[20,3,23,3],[20,4,23,4],[20,5,23,5],[20,6,23,6],[14,1,17,1],[14,2,17,2],[14,3,17,3],[14,4,17,4],[14,5,17,5],[14,6,17,6],[32,1,35,1],[32,2,35,2],[32,3,35,3],[32,4,35,4],[32,5,35,5],[32,6,35,6],[26,1,29,1],[26,2,29,2],[26,3,29,3],[26,4,29,4],[26,5,29,5],[26,6,29,6],[44,1,47,1],[44,2,47,2],[44,3,47,3],[44,4,47,4],[44,5,47,5],[44,6,47,6],[38,1,41,1],[38,2,41,2],[38,3,41,3],[38,4,41,4],[38,5,41,5],[38,6,41,6],[56,1,59,1],[56,2,59,2],[56,3,59,3],[56,4,59,4],[56,5,59,5],[56,6,59,6],[50,1,53,1],[50,2,53,2],[50,3,53,3],[50,4,53,4],[50,5,53,5],[50,6,53,6],[68,1,71,1],[68,2,71,2],[68,3,71,3],[68,4,71,4],[68,5,71,5],[68,6,71,6],[62,1,65,1],[62,2,65,2],[62,3,65,3],[62,4,65,4],[62,5,65,5],[62,6,65,6],[80,1,83,1],[80,2,83,2],[80,3,83,3],[80,4,83,4],[80,5,83,5],[80,6,83,6],[74,1,77,1],[74,2,77,2],[74,3,77,3],[74,4,77,4],[74,5,77,5],[74,6,77,6],[92,1,95,1],[92,2,95,2],[92,3,95,3],[92,4,95,4],[92,5,95,5],[92,6,95,6],[86,1,89,1],[86,2,89,2],[86,3,89,3],[86,4,89,4],[86,5,89,5],[86,6,89,6],[103,1,103,5],[105,2,105,6],[107,2,107,6],[108,2,108,6],[98,1,101,1],[98,2,101,2],[98,3,101,3],[98,4,101,4],[98,5,101,5],[98,6,101,6]]}
[null,"16. VÔLEI SENTADO"]
[null,"ITEM","IMAGEM ILUSTRATIUVA","MODELO","QTD","VALOR\nUNITÁRIO","VALOR\nTOTAL"]
[null,1,null,"REGATA MASCULINA / \nCO.055.20 (AMARELA)",82,null,{"$f":"IF(E3=\"\",\"\",IF(F3=\"\",\"\",(E3*F3)))","v":""}]
[]
[]
[]
[]
[null,"ITEM","IMAGEM ILUSTRATIUVA","MODELO","QTD","VALOR\nUNITÁRIO","VALOR\nTOTAL"]
[null,2,null,"REGATA MASCULINA / \nCO.056.20 (VERDE)",82,null,{"$f":"IF(E9=\"\",\"\",IF(F9=\"\",\"\",(E9*F9)))","v":""}]
[]
[]
[]
[]
[null,"ITEM","IMAGEM ILUSTRATIUVA","MODELO","QTD","VALOR\nUNITÁRIO","VALOR\nTOTAL"]
[null,3,null,"REGATA MASCULINA / \nCO.057.20 (AZUL)",82,null,{"$f":"IF(E15=\"\",\"\",IF(F15=\"\",\"\",(E15*F15)))","v":""}]
[]
[]
[]
[]
[null,"ITEM","IMAGEM ILUSTRATIUVA","MODELO","QTD","VALOR\nUNITÁRIO","VALOR\nTOTAL"]
[null,4,null,"REGATA MASCULINA / \nCO.108.20 (BRANCA)",82,null,{"$f":"IF(E21=\"\",\"\",IF(F21=\"\",\"\",(E21*F21)))","v":""}]
[]
[]
[]
[]
[null,"ITEM","IMAGEM ILUSTRATIUVA","MODELO","QTD","VALOR\nUNITÁRIO","VALOR\nTOTAL"]
[null,5,null,"BERMUDA MASCULINA /\nCO.066.20",82,null,{"$f":"IF(E27=\"\",\"\",IF(F27=\"\",\"\",(E27*F27)))","v":""}]
[]
[]
[]
[]
[null,"ITEM","IMAGEM ILUSTRATIUVA","MODELO","QTD","VALOR\nUNITÁRIO","VALOR\nTOTAL"]
[null,6,null,"CALÇA MASCULINA OVERSIZED /\n",82,null,{"$f":"IF(E33=\"\",\"\",IF(F33=\"\",\"\",(E33*F33)))","v":""}]
[]
[]
[]
[]
[null,"ITEM","IMAGEM ILUSTRATIUVA","MODELO","QTD","VALOR\nUNITÁRIO","VALOR\nTOTAL"]
[null,7,null,"CALÇA MASCULINA OVERSIZED /\n",82,null,{"$f":"IF(E39=\"\",\"\",IF(F39=\"\",\"\",(E39*F39)))","v":""}]
[]
[]
[]
[]
[null,"ITEM","IMAGEM ILUSTRATIUVA","MODELO","QTD","VALOR\nUNITÁRIO","VALOR\nTOTAL"]
[null,8,null,"MANGUITO / \nCO.141.20 (BRANCO)",600,null,{"$f":"IF(E45=\"\",\"\",IF(F45=\"\",\"\",(E45*F45)))","v":""}]
[]
[]
[]
[]
[null,"ITEM","IMAGEM ILUSTRATIUVA","MODELO","QTD","VALOR\nUNITÁRIO","VALOR\nTOTAL"]
[null,9,null,"CAMISETA SEGUNDA PELE MASCULINA / \nCO.132.20",82,null,{"$f":"IF(E51=\"\",\"\",IF(F51=\"\",\"\",(E51*F51)))","v":""}]
[]
[]
[]
[]
[null,"ITEM","IMAGEM ILUSTRATIUVA","MODELO","QTD","VALOR\nUNITÁRIO","VALOR\nTOTAL"]
[null,10,null,"CAMISETA FEMININA / \nCO.109.20 (AMARELA)",80,null,{"$f":"IF(E57=\"\",\"\",IF(F57=\"\",\"\",(E57*F57)))","v":""}]
[]
[]
[]
[]
[null,"ITEM","IMAGEM ILUSTRATIUVA","MODELO","QTD","VALOR\nUNITÁRIO","VALOR\nTOTAL"]
[null,11,null,"CAMISETA FEMININA / \nCO.110.20 (AZUL)",80,null,{"$f":"IF(E63=\"\",\"\",IF(F63=\"\",\"\",(E63*F63)))","v":""}]
[]
[]
[]
[]
[null,"ITEM","IMAGEM ILUSTRATIUVA","MODELO","QTD","VALOR\nUNITÁRIO","VALOR\nTOTAL"]
[null,12,null,"CAMISETA FEMININA / CO.110.20 (VERDE)",80,null,{"$f":"IF(E69=\"\",\"\",IF(F69=\"\",\"\",(E69*F69)))","v":""}]
[]
[]
[]
[]
[null,"ITEM","IMAGEM ILUSTRATIUVA","MODELO","QTD","VALOR\nUNITÁRIO","VALOR\nTOTAL"]
[null,13,null,"CAMISETA FEMININA / \nCO.110.20 (BRANCA)",80,null,{"$f":"IF(E75=\"\",\"\",IF(F75=\"\",\"\",(E75*F75)))","v":""}]
[]
[]
[]
[]
[null,"ITEM","IMAGEM ILUSTRATIUVA","MODELO","QTD","VALOR\nUNITÁRIO","VALOR\nTOTAL"]
[null,14,null,"TOP FEMININO /\nPA.042.20 (AZUL)",80,null,{"$f":"IF(E81=\"\",\"\",IF(F81=\"\",\"\",(E81*F81)))","v":""}]
[]
[]
[]
[]
[null,"ITEM","IMAGEM ILUSTRATIUVA","MODELO","QTD","VALOR\nUNITÁRIO","VALOR\nTOTAL"]
[null,15,null,"CALÇA FEMININA OVERSIZED /\n",80,null,{"$f":"IF(E87=\"\",\"\",IF(F87=\"\",\"\",(E87*F87)))","v":""}]
[]
[]
[]
[]
[null,"ITEM","IMAGEM ILUSTRATIUVA","MODELO","QTD","VALOR\nUNITÁRIO","VALOR\nTOTAL"]
[null,16,null,"LEGGING FEMININA / \nCO.075.20",80,null,{"$f":"IF(E93=\"\",\"\",IF(F93=\"\",\"\",(E93*F93)))","v":""}]
[]
[]
[]
[]
[null,"ITEM","IMAGEM ILUSTRATIUVA","MODELO","QTD","VALOR\nUNITÁRIO","VALOR\nTOTAL"]
[null,17,null,"CAMISETA SEGUNDA PELE FEMININA / \n",80,null,{"$f":"IF(E99=\"\",\"\",IF(F99=\"\",\"\",(E99*F99)))","v":""}]
[]
[]
[]
[]
[null,"TOTAL",null,null,null,null,{"$f":"IF(SUM(G3,G9,G15,G21,G27,G33,G39,G45,G51,G57,G63,G69,G75,G81,G87,G93,G99)=0,\"\",SUM(G3,G9,G15,G21,G27,G33,G39,G45,G51,G57,G63,G69,G75,G81,G87,G93,G99))","v":""}]
[]
[null,"Valor da Proposta:",{"$f":"G104","v":""}]
[]
[null,{"$f":"'00.Orçamento Resumo'!A7","v":"EMPRESA:"},{"$f":"IF('00.Orçamento Resumo'!$B$7=\"\",\"\",'00.Orçamento Resumo'!$B$7)","v":""}]
[null,{"$f":"'00.Orçamento Resumo'!A8","v":"CNPJ:"},{"$f":"IF('00.Orçamento Resumo'!$B$8=\"\",\"\",'00.Orçamento Resumo'!$B$8)","v":""}]

{"sheet":"17. LOTERIAS CAIXA","index":18,"n_rows":110,"n_cols":7,"rows_kept":110,"cut":false,"hidden":false,"merged":[[8,6,11,6],[2,1,5,1],[2,2,5,2],[2,3,5,3],[2,4,5,4],[2,5,5,5],[2,6,5,6],[8,1,11,1],[8,2,11,2],[8,3,11,3],[8,4,11,4],[8,5,11,5],[20,6,23,6],[14,1,17,1],[14,2,17,2],[14,3,17,3],[14,4,17,4],[14,5,17,5],[14,6,17,6],[20,1,23,1],[20,2,23,2],[20,3,23,3],[20,4,23,4],[20,5,23,5],[32,6,35,6],[26,1,29,1],[26,2,29,2],[26,3,29,3],[26,4,29,4],[26,5,29,5],[26,6,29,6],[32,1,35,1],[32,2,35,2],[32,3,35,3],[32,4,35,4],[32,5,35,5],[44,6,47,6],[38,1,41,1],[38,2,41,2],[38,3,41,3],[38,4,41,4],[38,5,41,5],[38,6,41,6],[44,1,47,1],[44,2,47,2],[44,3,47,3],[44,4,47,4],[44,5,47,5],[57,6,60,6],[63,1,66,1],[63,2,66,2],[63,3,66,3],[63,4,66,4],[63,5,66,5],[63,6,66,6],[109,2,109,6],[50,1,53,1],[50,2,53,2],[50,3,53,3],[50,4,53,4],[50,5,53,5],[50,6,53,6],[104,1,104,5],[106,2,106,6],[108,2,108,6],[57,1,60,1],[57,2,60,2],[57,3,60,3],[57,4,60,4],[57,5,60,5],[69,6,72,6],[75,1,78,1],[75,2,78,2],[75,3,78,3],[75,4,78,4],[75,5,78,5],[75,6,78,6],[69,1,72,1],[69,2,72,2],[69,3,72,3],[69,4,72,4],[69,5,72,5],[81,6,84,6],[87,1,90,1],[87,2,90,2],[87,3,90,3],[87,4,90,4],[87,5,90,5],[87,6,90,6],[81,1,84,1],[81,2,84,2],[81,3,84,3],[81,4,84,4],[81,5,84,5],[93,6,96,6],[99,1,102,1],[99,2,102,2],[99,3,102,3],[99,4,102,4],[99,5,102,5],[99,6,102,6],[93,1,96,1],[93,2,96,2],[93,3,96,3],[93,4,96,4],[93,5,96,5]]}
[null,"LOTERIAS CAIXAS"]
[null,"ITEM","IMAGEM ILUSTRATIUVA","MODELO","QTD","VALOR\nUNITÁRIO","VALOR\nTOTAL"]
[null,1,"Design será compartilhado posteriomente","QUEBRA VENTO\nFEMININO",150,null,{"$f":"IF(E3=\"\",\"\",IF(F3=\"\",\"\",(E3*F3)))","v":""}]
[]
[]
[]
[]
[null,"ITEM","IMAGEM ILUSTRATIUVA","MODELO","QTD","VALOR\nUNITÁRIO","VALOR\nTOTAL"]
[null,2,"Design será compartilhado posteriomente","CALÇA\nFEMININO",150,null,{"$f":"IF(E9=\"\",\"\",IF(F9=\"\",\"\",(E9*F9)))","v":""}]
[]
[]
[]
[]
[null,"ITEM","IMAGEM ILUSTRATIUVA","MODELO","QTD","VALOR\nUNITÁRIO","VALOR\nTOTAL"]
[null,3,"Design será compartilhado posteriomente","BLUSÃO\nFEMININO",150,null,{"$f":"IF(E15=\"\",\"\",IF(F15=\"\",\"\",(E15*F15)))","v":""}]
[]
[]
[]
[]
[null,"ITEM","IMAGEM ILUSTRATIUVA","MODELO","QTD","VALOR\nUNITÁRIO","VALOR\nTOTAL"]
[null,4,"Design será compartilhado posteriomente","CALÇA\nFEMININO",150,null,{"$f":"IF(E21=\"\",\"\",IF(F21=\"\",\"\",(E21*F21)))","v":""}]
[]
[]
[]
[]
[null,"ITEM","IMAGEM ILUSTRATIUVA","MODELO","QTD","VALOR\nUNITÁRIO","VALOR\nTOTAL"]
[null,5,"Design será compartilhado posteriomente","CAMISETA\nFEMININO",625,null,{"$f":"IF(E27=\"\",\"\",IF(F27=\"\",\"\",(E27*F27)))","v":""}]
[]
[]
[]
[]
[null,"ITEM","IMAGEM ILUSTRATIUVA","MODELO","QTD","VALOR\nUNITÁRIO","VALOR\nTOTAL"]
[null,6,"Design será compartilhado posteriomente","REGATA\nFEMININO",450,null,{"$f":"IF(E33=\"\",\"\",IF(F33=\"\",\"\",(E33*F33)))","v":""}]
[]
[]
[]
[]
[null,"ITEM","IMAGEM ILUSTRATIUVA","MODELO","QTD","VALOR\nUNITÁRIO","VALOR\nTOTAL"]
[null,7,"Design será compartilhado posteriomente","CAMISA POLO POLIESTER\nFEMININO",150,null,{"$f":"IF(E39=\"\",\"\",IF(F39=\"\",\"\",(E39*F39)))","v":""}]
[]
[]
[]
[]
[null,"ITEM","IMAGEM ILUSTRATIUVA","MODELO","QTD","VALOR\nUNITÁRIO","VALOR\nTOTAL"]
[null,8,"Design será compartilhado posteriomente","SHORT\nFEMININO",300,null,{"$f":"IF(E45=\"\",\"\",IF(F45=\"\",\"\",(E45*F45)))","v":""}]
[]
[]
[]
[]
[null,"ITEM","IMAGEM ILUSTRATIUVA","MODELO","QTD","VALOR\nUNITÁRIO","VALOR\nTOTAL"]
[null,9,"Design será compartilhado posteriomente","LEGGING\nFEMININO",300,null,{"$f":"IF(E51=\"\",\"\",IF(F51=\"\",\"\",(E51*F51)))","v":""}]
[]
[]
[]
[]
[null,"CAIXA - MASCULINO"]
[null,"ITEM","IMAGEM ILUSTRATIUVA","MODELO","QTD","VALOR\nUNITÁRIO","VALOR\nTOTAL"]
[null,10,"Design será compartilhado posteriomente","QUEBRA VENTO\nMASCULINO",150,null,{"$f":"IF(E58=\"\",\"\",IF(F58=\"\",\"\",(E58*F58)))","v":""}]
[]
[]
[]
[]
[null,"ITEM","IMAGEM ILUSTRATIUVA","MODELO","QTD","VALOR\nUNITÁRIO","VALOR\nTOTAL"]
[null,11,"Design será compartilhado posteriomente","CALÇA\nMASCULINA",150,null,{"$f":"IF(E64=\"\",\"\",IF(F64=\"\",\"\",(E64*F64)))","v":""}]
[]
[]
[]
[]
[null,"ITEM","IMAGEM ILUSTRATIUVA","MODELO","QTD","VALOR\nUNITÁRIO","VALOR\nTOTAL"]
[null,12,"Design será compartilhado posteriomente","BLUSÃO\nMASCULINO",150,null,{"$f":"IF(E70=\"\",\"\",IF(F70=\"\",\"\",(E70*F70)))","v":""}]
[]
[]
[]
[]
[null,"ITEM","IMAGEM ILUSTRATIUVA","MODELO","QTD","VALOR\nUNITÁRIO","VALOR\nTOTAL"]
[null,13,"Design será compartilhado posteriomente","CALÇA\nMASCULINA",150,null,{"$f":"IF(E76=\"\",\"\",IF(F76=\"\",\"\",(E76*F76)))","v":""}]
[]
[]
[]
[]
[null,"ITEM","IMAGEM ILUSTRATIUVA","MODELO","QTD","VALOR\nUNITÁRIO","VALOR\nTOTAL"]
[null,14,"Design será compartilhado posteriomente","CAMISETA\nMASCULINA",625,null,{"$f":"IF(E82=\"\",\"\",IF(F82=\"\",\"\",(E82*F82)))","v":""}]
[]
[]
[]
[]
[null,"ITEM","IMAGEM ILUSTRATIUVA","MODELO","QTD","VALOR\nUNITÁRIO","VALOR\nTOTAL"]
[null,15,"Design será compartilhado posteriomente","REGATA\nMASCULINA",450,null,{"$f":"IF(E88=\"\",\"\",IF(F88=\"\",\"\",(E88*F88)))","v":""}]
[]
[]
[]
[]
[null,"ITEM","IMAGEM ILUSTRATIUVA","MODELO","QTD","VALOR\nUNITÁRIO","VALOR\nTOTAL"]
[null,16,"Design será compartilhado posteriomente","CAMISA POLO POLIESTER\nMASCULINA",150,null,{"$f":"IF(E94=\"\",\"\",IF(F94=\"\",\"\",(E94*F94)))","v":""}]
[]
[]
[]
[]
[null,"ITEM","IMAGEM ILUSTRATIUVA","MODELO","QTD","VALOR\nUNITÁRIO","VALOR\nTOTAL"]
[null,17,"Design será compartilhado posteriomente","SHORT\nMASCULINO",450,null,{"$f":"IF(E100=\"\",\"\",IF(F100=\"\",\"\",(E100*F100)))","v":""}]
[]
[]
[]
[]
[null,"TOTAL",null,null,null,null,{"$f":"IF(SUM(G3,G9,G15,G21,G27,G33,G39,G45,G51,G58,G64,G70,G76,G82,G88,G94,G100)=0,\"\",SUM(G3,G9,G15,G21,G27,G33,G39,G45,G51,G58,G64,G70,G76,G82,G88,G94,G100))","v":""}]
[]
[null,"Valor da Proposta:",{"$f":"G105","v":""}]
[]
[null,{"$f":"'00.Orçamento Resumo'!A7","v":"EMPRESA:"},{"$f":"IF('00.Orçamento Resumo'!$B$7=\"\",\"\",'00.Orçamento Resumo'!$B$7)","v":""}]
[null,{"$f":"'00.Orçamento Resumo'!A8","v":"CNPJ:"},{"$f":"IF('00.Orçamento Resumo'!$B$8=\"\",\"\",'00.Orçamento Resumo'!$B$8)","v":""}]

{"sheet":"18. LOT. CAIXA E BRASKEM","index":19,"n_rows":110,"n_cols":7,"rows_kept":110,"cut":false,"hidden":false,"merged":[[2,6,5,6],[2,1,5,1],[2,2,5,2],[2,3,5,3],[2,4,5,4],[2,5,5,5],[14,6,17,6],[8,1,11,1],[8,2,11,2],[8,3,11,3],[8,4,11,4],[8,5,11,5],[8,6,11,6],[14,1,17,1],[14,2,17,2],[14,3,17,3],[14,4,17,4],[14,5,17,5],[26,6,29,6],[20,1,23,1],[20,2,23,2],[20,3,23,3],[20,4,23,4],[20,5,23,5],[20,6,23,6],[26,1,29,1],[26,2,29,2],[26,3,29,3],[26,4,29,4],[26,5,29,5],[38,6,41,6],[32,1,35,1],[32,2,35,2],[32,3,35,3],[32,4,35,4],[32,5,35,5],[32,6,35,6],[38,1,41,1],[38,2,41,2],[38,3,41,3],[38,4,41,4],[38,5,41,5],[104,1,104,5],[106,2,106,6],[108,2,108,6],[109,2,109,6],[50,6,53,6],[44,1,47,1],[44,2,47,2],[44,3,47,3],[44,4,47,4],[44,5,47,5],[44,6,47,6],[50,1,53,1],[50,2,53,2],[50,3,53,3],[50,4,53,4],[50,5,53,5],[57,6,60,6],[63,1,66,1],[63,2,66,2],[63,3,66,3],[63,4,66,4],[63,5,66,5],[63,6,66,6],[57,1,60,1],[57,2,60,2],[57,3,60,3],[57,4,60,4],[57,5,60,5],[69,6,72,6],[75,1,78,1],[75,2,78,2],[75,3,78,3],[75,4,78,4],[75,5,78,5],[75,6,78,6],[69,1,72,1],[69,2,72,2],[69,3,72,3],[69,4,72,4],[69,5,72,5],[81,6,84,6],[87,1,90,1],[87,2,90,2],[87,3,90,3],[87,4,90,4],[87,5,90,5],[87,6,90,6],[81,1,84,1],[81,2,84,2],[81,3,84,3],[81,4,84,4],[81,5,84,5],[93,6,96,6],[99,1,102,1],[99,2,102,2],[99,3,102,3],[99,4,102,4],[99,5,102,5],[99,6,102,6],[93,1,96,1],[93,2,96,2],[93,3,96,3],[93,4,96,4],[93,5,96,5]]}
[null,"LOTERIAS CAIXAS E BRASKEM"]
[null,"ITEM","IMAGEM ILUSTRATIUVA","MODELO","QTD","VALOR\nUNITÁRIO","VALOR\nTOTAL"]
[null,1,"Design será compartilhado posteriomente","QUEBRA VENTO\nFEMININO",100,null,{"$f":"IF(E3=\"\",\"\",IF(F3=\"\",\"\",(E3*F3)))","v":""}]
[]
[]
[]
[]
[null,"ITEM","IMAGEM ILUSTRATIUVA","MODELO","QTD","VALOR\nUNITÁRIO","VALOR\nTOTAL"]
[null,2,"Design será compartilhado posteriomente","CALÇA\nFEMININO",100,null,{"$f":"IF(E9=\"\",\"\",IF(F9=\"\",\"\",(E9*F9)))","v":""}]
[]
[]
[]
[]
[null,"ITEM","IMAGEM ILUSTRATIUVA","MODELO","QTD","VALOR\nUNITÁRIO","VALOR\nTOTAL"]
[null,3,"Design será compartilhado posteriomente","BLUSÃO\nFEMININO",100,null,{"$f":"IF(E15=\"\",\"\",IF(F15=\"\",\"\",(E15*F15)))","v":""}]
[]
[]
[]
[]
[null,"ITEM","IMAGEM ILUSTRATIUVA","MODELO","QTD","VALOR\nUNITÁRIO","VALOR\nTOTAL"]
[null,4,"Design será compartilhado posteriomente","CALÇA\nFEMININO",100,null,{"$f":"IF(E21=\"\",\"\",IF(F21=\"\",\"\",(E21*F21)))","v":""}]
[]
[]
[]
[]
[null,"ITEM","IMAGEM ILUSTRATIUVA","MODELO","QTD","VALOR\nUNITÁRIO","VALOR\nTOTAL"]
[null,5,"Design será compartilhado posteriomente","CAMISETA\nFEMININO",300,null,{"$f":"IF(E27=\"\",\"\",IF(F27=\"\",\"\",(E27*F27)))","v":""}]
[]
[]
[]
[]
[null,"ITEM","IMAGEM ILUSTRATIUVA","MODELO","QTD","VALOR\nUNITÁRIO","VALOR\nTOTAL"]
[null,6,"Design será compartilhado posteriomente","REGATA\nFEMININO\nPA.034.20",300,null,{"$f":"IF(E33=\"\",\"\",IF(F33=\"\",\"\",(E33*F33)))","v":""}]
[]
[]
[]
[]
[null,"ITEM","IMAGEM ILUSTRATIUVA","MODELO","QTD","VALOR\nUNITÁRIO","VALOR\nTOTAL"]
[null,7,"Design será compartilhado posteriomente","CAMISA POLO POLIESTER\nFEMININO",100,null,{"$f":"IF(E39=\"\",\"\",IF(F39=\"\",\"\",(E39*F39)))","v":""}]
[]
[]
[]
[]
[null,"ITEM","IMAGEM ILUSTRATIUVA","MODELO","QTD","VALOR\nUNITÁRIO","VALOR\nTOTAL"]
[null,8,"Design será compartilhado posteriomente","SHORT\nFEMININO",200,null,{"$f":"IF(E45=\"\",\"\",IF(F45=\"\",\"\",(E45*F45)))","v":""}]
[]
[]
[]
[]
[null,"ITEM","IMAGEM ILUSTRATIUVA","MODELO","QTD","VALOR\nUNITÁRIO","VALOR\nTOTAL"]
[null,9,"Design será compartilhado posteriomente","LEGGING\nFEMININO",200,null,{"$f":"IF(E51=\"\",\"\",IF(F51=\"\",\"\",(E51*F51)))","v":""}]
[]
[]
[]
[]
[null,"BRASKEM - MASCULINO"]
[null,"ITEM","IMAGEM ILUSTRATIUVA","MODELO","QTD","VALOR\nUNITÁRIO","VALOR\nTOTAL"]
[null,10,"Design será compartilhado posteriomente","QUEBRA VENTO\nMASCULINO",100,null,{"$f":"IF(E58=\"\",\"\",IF(F58=\"\",\"\",(E58*F58)))","v":""}]
[]
[]
[]
[]
[null,"ITEM","IMAGEM ILUSTRATIUVA","MODELO","QTD","VALOR\nUNITÁRIO","VALOR\nTOTAL"]
[null,11,"Design será compartilhado posteriomente","CALÇA\nMASCULINA",100,null,{"$f":"IF(E64=\"\",\"\",IF(F64=\"\",\"\",(E64*F64)))","v":""}]
[]
[]
[]
[]
[null,"ITEM","IMAGEM ILUSTRATIUVA","MODELO","QTD","VALOR\nUNITÁRIO","VALOR\nTOTAL"]
[null,12,"Design será compartilhado posteriomente","BLUSÃO\nMASCULINO",100,null,{"$f":"IF(E70=\"\",\"\",IF(F70=\"\",\"\",(E70*F70)))","v":""}]
[]
[]
[]
[]
[null,"ITEM","IMAGEM ILUSTRATIUVA","MODELO","QTD","VALOR\nUNITÁRIO","VALOR\nTOTAL"]
[null,13,"Design será compartilhado posteriomente","CALÇA\nMASCULINA",100,null,{"$f":"IF(E76=\"\",\"\",IF(F76=\"\",\"\",(E76*F76)))","v":""}]
[]
[]
[]
[]
[null,"ITEM","IMAGEM ILUSTRATIUVA","MODELO","QTD","VALOR\nUNITÁRIO","VALOR\nTOTAL"]
[null,14,"Design será compartilhado posteriomente","CAMISETA\nMASCULINA",300,null,{"$f":"IF(E82=\"\",\"\",IF(F82=\"\",\"\",(E82*F82)))","v":""}]
[]
[]
[]
[]
[null,"ITEM","IMAGEM ILUSTRATIUVA","MODELO","QTD","VALOR\nUNITÁRIO","VALOR\nTOTAL"]
[null,15,"Design será compartilhado posteriomente","REGATA\nMASCULINA",300,null,{"$f":"IF(E88=\"\",\"\",IF(F88=\"\",\"\",(E88*F88)))","v":""}]
[]
[]
[]
[]
[null,"ITEM","IMAGEM ILUSTRATIUVA","MODELO","QTD","VALOR\nUNITÁRIO","VALOR\nTOTAL"]
[null,16,"Design será compartilhado posteriomente","CAMISA POLO POLIESTER\nMASCULINA",100,null,{"$f":"IF(E94=\"\",\"\",IF(F94=\"\",\"\",(E94*F94)))","v":""}]
[]
[]
[]
[]
[null,"ITEM","IMAGEM ILUSTRATIUVA","MODELO","QTD","VALOR\nUNITÁRIO","VALOR\nTOTAL"]
[null,17,"Design será compartilhado posteriomente","SHORT\nMASCULINO",300,null,{"$f":"IF(E100=\"\",\"\",IF(F100=\"\",\"\",(E100*F100)))","v":""}]
[]
[]
[]
[]
[null,"TOTAL",null,null,null,null,{"$f":"IF(SUM(G3,G9,G15,G21,G27,G33,G39,G45,G51,G58,G64,G70,G76,G82,G88,G94,G100)=0,\"\",SUM(G3,G9,G15,G21,G27,G33,G39,G45,G51,G58,G64,G70,G76,G82,G88,G94,G100))","v":""}]
[]
[null,"Valor da Proposta:",{"$f":"G105","v":""}]
[]
[null,{"$f":"'00.Orçamento Resumo'!A7","v":"EMPRESA:"},{"$f":"IF('00.Orçamento Resumo'!$B$7=\"\",\"\",'00.Orçamento Resumo'!$B$7)","v":""}]
[null,{"$f":"'00.Orçamento Resumo'!A8","v":"CNPJ:"},{"$f":"IF('00.Orçamento Resumo'!$B$8=\"\",\"\",'00.Orçamento Resumo'!$B$8)","v":""}]

{"sheet":"19. TIME SÃO PAULO","index":20,"n_rows":44,"n_cols":7,"rows_kept":44,"cut":false,"hidden":false,"merged":[[2,6,5,6],[2,1,5,1],[2,2,5,2],[2,3,5,3],[2,4,5,4],[2,5,5,5],[14,6,17,6],[8,1,11,1],[8,2,11,2],[8,3,11,3],[8,4,11,4],[8,5,11,5],[8,6,11,6],[14,1,17,1],[14,2,17,2],[14,3,17,3],[14,4,17,4],[14,5,17,5],[38,1,38,5],[40,2,40,6],[42,2,42,6],[43,2,43,6],[21,6,24,6],[27,1,30,1],[27,2,30,2],[27,3,30,3],[27,4,30,4],[27,5,30,5],[27,6,30,6],[21,1,24,1],[21,2,24,2],[21,3,24,3],[21,4,24,4],[21,5,24,5],[33,6,36,6],[33,1,36,1],[33,2,36,2],[33,3,36,3],[33,4,36,4],[33,5,36,5]]}
[null,"TIME SÃO PAULO"]
[null,"ITEM","IMAGEM ILUSTRATIUVA","MODELO","QTD","VALOR\nUNITÁRIO","VALOR\nTOTAL"]
[null,1,"Design será compartilhado posteriomente","CAMISETA\nFEMININA",300,null,{"$f":"IF(E3=\"\",\"\",IF(F3=\"\",\"\",(E3*F3)))","v":""}]
[]
[]
[]
[]
[null,"ITEM","IMAGEM ILUSTRATIUVA","MODELO","QTD","VALOR\nUNITÁRIO","VALOR\nTOTAL"]
[null,2,"Design será compartilhado posteriomente","REGATA\nFEMININA",150,null,{"$f":"IF(E9=\"\",\"\",IF(F9=\"\",\"\",(E9*F9)))","v":""}]
[]
[]
[]
[]
[null,"ITEM","IMAGEM ILUSTRATIUVA","MODELO","QTD","VALOR\nUNITÁRIO","VALOR\nTOTAL"]
[null,3,"Design será compartilhado posteriomente","LEGGING\nFEMININA",150,null,{"$f":"IF(E15=\"\",\"\",IF(F15=\"\",\"\",(E15*F15)))","v":""}]
[]
[]
[]
[]
[null,"TIME SÃO PAULO - MASCULINO"]
[null,"ITEM","IMAGEM ILUSTRATIUVA","MODELO","QTD","VALOR\nUNITÁRIO","VALOR\nTOTAL"]
[null,4,"Design será compartilhado posteriomente","CAMISETA\nMASCULINA",300,null,{"$f":"IF(E22=\"\",\"\",IF(F22=\"\",\"\",(E22*F22)))","v":""}]
[]
[]
[]
[]
[null,"ITEM","IMAGEM ILUSTRATIUVA","MODELO","QTD","VALOR\nUNITÁRIO","VALOR\nTOTAL"]
[null,5,"Design será compartilhado posteriomente","REGATA\nMASCULINA",150,null,{"$f":"IF(E28=\"\",\"\",IF(F28=\"\",\"\",(E28*F28)))","v":""}]
[]
[]
[]
[]
[null,"ITEM","IMAGEM ILUSTRATIUVA","MODELO","QTD","VALOR\nUNITÁRIO","VALOR\nTOTAL"]
[null,6,"Design será compartilhado posteriomente","CALÇA\nMASCULINA",150,null,{"$f":"IF(E34=\"\",\"\",IF(F34=\"\",\"\",(E34*F34)))","v":""}]
[]
[]
[]
[]
[null,"TOTAL",null,null,null,null,{"$f":"IF(SUM(G3,G9,G15,G22,G28,G34)=0,\"\",SUM(G3,G9,G15,G22,G28,G34))","v":""}]
[]
[null,"Valor da Proposta:",{"$f":"G39","v":""}]
[]
[null,{"$f":"'00.Orçamento Resumo'!A7","v":"EMPRESA:"},{"$f":"IF('00.Orçamento Resumo'!$B$7=\"\",\"\",'00.Orçamento Resumo'!$B$7)","v":""}]
[null,{"$f":"'00.Orçamento Resumo'!A8","v":"CNPJ:"},{"$f":"IF('00.Orçamento Resumo'!$B$8=\"\",\"\",'00.Orçamento Resumo'!$B$8)","v":""}]

{"sheet":"20. ENDOMARKETING","index":21,"n_rows":44,"n_cols":7,"rows_kept":44,"cut":false,"hidden":false,"merged":[[8,6,11,6],[2,1,5,1],[2,2,5,2],[2,3,5,3],[2,4,5,4],[2,5,5,5],[2,6,5,6],[8,1,11,1],[8,2,11,2],[8,3,11,3],[8,4,11,4],[8,5,11,5],[21,4,24,4],[21,5,24,5],[21,6,24,6],[27,1,30,1],[27,2,30,2],[27,3,30,3],[27,4,30,4],[27,5,30,5],[27,6,30,6],[21,1,24,1],[21,2,24,2],[21,3,24,3],[38,1,38,5],[40,2,40,6],[42,2,42,6],[43,2,43,6],[14,6,17,6],[33,1,36,1],[33,2,36,2],[33,3,36,3],[33,4,36,4],[33,5,36,5],[33,6,36,6],[14,1,17,1],[14,2,17,2],[14,3,17,3],[14,4,17,4],[14,5,17,5]]}
[null,"ENDOMARKETING"," - PASSEIO FEMININO"]
[null,"ITEM","IMAGEM ILUSTRATIUVA","MODELO","QTD","VALOR\nUNITÁRIO","VALOR\nTOTAL"]
[null,1,null,"BLUSÃO FEMININO\n / PA.028.20",140,null,{"$f":"IF(E3=\"\",\"\",IF(F3=\"\",\"\",(E3*F3)))","v":""}]
[]
[]
[]
[]
[null,"ITEM","IMAGEM ILUSTRATIUVA","MODELO","QTD","VALOR\nUNITÁRIO","VALOR\nTOTAL"]
[null,2,null,"CALÇA FEMININA\n/ PA.029.20",140,null,{"$f":"IF(E9=\"\",\"\",IF(F9=\"\",\"\",(E9*F9)))","v":""}]
[]
[]
[]
[]
[null,"ITEM","IMAGEM ILUSTRATIUVA","MODELO","QTD","VALOR\nUNITÁRIO","VALOR\nTOTAL"]
[null,3,null,"CAMISA POLO FEMININA POLIESTER / PA.060.20 (AZUL)",140,null,{"$f":"IF(E15=\"\",\"\",IF(F15=\"\",\"\",(E15*F15)))","v":""}]
[]
[]
[]
[]
[null,"ENDOMARKETING"," - PASSEIO MASCULINO"]
[null,"ITEM","IMAGEM ILUSTRATIUVA","MODELO","QTD","VALOR\nUNITÁRIO","VALOR\nTOTAL"]
[null,4,null,"BLUSÃO MASCULINO \n/ PA.013.20",200,null,{"$f":"IF(E22=\"\",\"\",IF(F22=\"\",\"\",(E22*F22)))","v":""}]
[]
[]
[]
[]
[null,"ITEM","IMAGEM ILUSTRATIUVA","MODELO","QTD","VALOR\nUNITÁRIO","VALOR\nTOTAL"]
[null,5,null,"CALÇA MASCULINA \n/ PA.014.20",200,null,{"$f":"IF(E28=\"\",\"\",IF(F28=\"\",\"\",(E28*F28)))","v":""}]
[]
[]
[]
[]
[null,"ITEM","IMAGEM ILUSTRATIUVA","MODELO","QTD","VALOR\nUNITÁRIO","VALOR\nTOTAL"]
[null,6,null,"CAMISA POLO MASCULINA POLIESTER / PA.043.20 (AZUL)",200,null,{"$f":"IF(E34=\"\",\"\",IF(F34=\"\",\"\",(E34*F34)))","v":""}]
[]
[]
[]
[]
[null,"TOTAL",null,null,null,null,{"$f":"IF(SUM(G3,G9,G15,G22,G28,G34)=0,\"\",SUM(G3,G9,G15,G22,G28,G34))","v":""}]
[]
[null,"Valor da Proposta:",{"$f":"G39","v":""}]
[]
[null,{"$f":"'00.Orçamento Resumo'!A7","v":"EMPRESA:"},{"$f":"IF('00.Orçamento Resumo'!$B$7=\"\",\"\",'00.Orçamento Resumo'!$B$7)","v":""}]
[null,{"$f":"'00.Orçamento Resumo'!A8","v":"CNPJ:"},{"$f":"IF('00.Orçamento Resumo'!$B$8=\"\",\"\",'00.Orçamento Resumo'!$B$8)","v":""}]